BEGIN:VCALENDAR
VERSION:2.0
PRODID:-//ChamberMaster//Event Calendar 2.0//EN
METHOD:PUBLISH
X-PUBLISHED-TTL:P3D
REFRESH-INTERVAL:P3D
CALSCALE:GREGORIAN
BEGIN:VEVENT
DTSTART;VALUE=DATE:20190703
DTEND;VALUE=DATE:20190706
TRANSP:TRANSPARENT
X-MICROSOFT-CDO-ALLDAYEVENT:TRUE
SUMMARY:26th Meeting of ASEAN Sectoral Working Group on Crops
DESCRIPTION:Council has requested for a private sector engagement slot to brief te working group on the Fall Armyworm.
X-ALT-DESC;FMTTYPE=text/html:Council has requested for a private sector engagement slot to brief te working group on the Fall Armyworm.&nbsp\;
LOCATION:Singapore
UID:e.9078.7931
SEQUENCE:3
DTSTAMP:20260424T234950Z
URL:http://usasean.memberzone.com/events/details/26th-meeting-of-asean-sectoral-working-group-on-crops-7931
END:VEVENT

END:VCALENDAR
