BEGIN:VCALENDAR
VERSION:2.0
PRODID:-//ChamberMaster//Event Calendar 2.0//EN
METHOD:PUBLISH
X-PUBLISHED-TTL:P3D
REFRESH-INTERVAL:P3D
CALSCALE:GREGORIAN
BEGIN:VEVENT
DTSTART;VALUE=DATE:20150315
DTEND;VALUE=DATE:20150316
TRANSP:TRANSPARENT
X-MICROSOFT-CDO-ALLDAYEVENT:TRUE
SUMMARY:20th Anniversary Golf Tournament
DESCRIPTION:Members have an opportunity to play a round of golf with government officials and local business leaders prior to the mission.
X-ALT-DESC;FMTTYPE=text/html:<span style="font-family: &quot\;Arial&quot\;\,&quot\;sans-serif&quot\;\; font-size: 12pt\; mso-fareast-font-family: &quot\;Times New Roman&quot\;\; mso-ansi-language: EN-US\; mso-fareast-language: EN-US\; mso-bidi-language: AR-SA\;"><font color="#000000">Members have an opportunity to play a round of golf with government officials and local business leaders prior to the mission.</font></span>
LOCATION:Hanoi\, Vietnam
UID:e.9078.1497
SEQUENCE:3
DTSTAMP:20260419T172121Z
URL:http://usasean.memberzone.com/events/details/20th-anniversary-golf-tournament-03-15-2015-1497
END:VEVENT

END:VCALENDAR
