BEGIN:VCALENDAR
VERSION:2.0
PRODID:-//ChamberMaster//Event Calendar 2.0//EN
METHOD:PUBLISH
X-PUBLISHED-TTL:P3D
REFRESH-INTERVAL:P3D
CALSCALE:GREGORIAN
BEGIN:VEVENT
DTSTART:20240313T020000Z
DTEND:20240313T030000Z
X-MICROSOFT-CDO-ALLDAYEVENT:FALSE
SUMMARY:2024 Q1 Singapore Committee Call
DESCRIPTION:During the 2024 Q1 Singapore Committee Call\, the Singapore team will be discussing the Committee's work plan for 2024 as well as its recent and upcoming initiatives.
X-ALT-DESC;FMTTYPE=text/html:<span class="NormalTextRun SCXW214115423 BCX0" style="margin: 0px\; padding: 0px\; user-select: text\; -webkit-user-drag: none\; -webkit-tap-highlight-color: transparent\; color: rgb(36\, 36\, 36)\; font-family: Arial\, Arial_EmbeddedFont\, Arial_MSFontService\, sans-serif\; font-size: 14.6667px\; font-variant-ligatures: none\; text-align: justify\; white-space-collapse: preserve\;">During the 2024 Q1 Singapore Committee Call\, the Singapore team will be </span><span class="NormalTextRun SCXW214115423 BCX0" style="margin: 0px\; padding: 0px\; user-select: text\; -webkit-user-drag: none\; -webkit-tap-highlight-color: transparent\; color: rgb(36\, 36\, 36)\; font-family: Arial\, Arial_EmbeddedFont\, Arial_MSFontService\, sans-serif\; font-size: 14.6667px\; font-variant-ligatures: none\; text-align: justify\; white-space-collapse: preserve\;">discussing</span><span class="NormalTextRun SCXW214115423 BCX0" style="margin: 0px\; padding: 0px\; user-select: text\; -webkit-user-drag: none\; -webkit-tap-highlight-color: transparent\; color: rgb(36\, 36\, 36)\; font-family: Arial\, Arial_EmbeddedFont\, Arial_MSFontService\, sans-serif\; font-size: 14.6667px\; font-variant-ligatures: none\; text-align: justify\; white-space-collapse: preserve\;"> the Committee&#39\;s work plan for 2024 as well as its recent and upcoming initiatives. </span>
LOCATION:Virtual (Zoom)
UID:e.9078.9247
SEQUENCE:3
DTSTAMP:20260422T052233Z
URL:http://usasean.memberzone.com/events/details/2024-q1-singapore-committee-call-9247
END:VEVENT

END:VCALENDAR
