BEGIN:VCALENDAR
VERSION:2.0
PRODID:-//ChamberMaster//Event Calendar 2.0//EN
METHOD:PUBLISH
X-PUBLISHED-TTL:P3D
REFRESH-INTERVAL:P3D
CALSCALE:GREGORIAN
BEGIN:VEVENT
DTSTART:20240221T130000Z
DTEND:20240221T140000Z
X-MICROSOFT-CDO-ALLDAYEVENT:FALSE
SUMMARY:2024 Q1 Malaysia Committee Call
DESCRIPTION:
X-ALT-DESC;FMTTYPE=text/html:
LOCATION:
UID:e.9078.9239
SEQUENCE:3
DTSTAMP:20260422T025951Z
URL:http://usasean.memberzone.com/events/details/2024-q1-malaysia-committee-call-9239
END:VEVENT

END:VCALENDAR
