BEGIN:VCALENDAR
VERSION:2.0
PRODID:-//ChamberMaster//Event Calendar 2.0//EN
METHOD:PUBLISH
X-PUBLISHED-TTL:P3D
REFRESH-INTERVAL:P3D
CALSCALE:GREGORIAN
BEGIN:VEVENT
DTSTART:20240110T020000Z
DTEND:20240110T030000Z
X-MICROSOFT-CDO-ALLDAYEVENT:FALSE
SUMMARY:2024 Q1 Financial Service Committee Call
DESCRIPTION:
X-ALT-DESC;FMTTYPE=text/html:
LOCATION:
UID:e.9078.9225
SEQUENCE:3
DTSTAMP:20260422T010010Z
URL:http://usasean.memberzone.com/events/details/2024-q1-financial-service-committee-call-9225
END:VEVENT

END:VCALENDAR
