BEGIN:VCALENDAR
VERSION:2.0
PRODID:-//ChamberMaster//Event Calendar 2.0//EN
METHOD:PUBLISH
X-PUBLISHED-TTL:P3D
REFRESH-INTERVAL:P3D
CALSCALE:GREGORIAN
BEGIN:VEVENT
DTSTART:20240516T010000Z
DTEND:20240516T020000Z
X-MICROSOFT-CDO-ALLDAYEVENT:FALSE
SUMMARY:2024 Philippines Business Mission Planning Call #3
DESCRIPTION:During this third and final planning call\, the Council will provide detailed information on the upcoming Business Mission\, including information on the confirmed meetings & the notional schedule\, meeting formats & talking points\, submission reminders\, mission logistics\, and other pertinent information.
X-ALT-DESC;FMTTYPE=text/html:<span class="TextRun SCXW180250795 BCX0" data-contrast="auto" lang="EN-US" style="-webkit-user-drag: none\; -webkit-tap-highlight-color: transparent\; margin: 0px\; padding: 0px\; user-select: text\; color: rgb(0\, 0\, 0)\; font-style: normal\; text-align: justify\; white-space-collapse: preserve\; font-size: 11pt\; line-height: 18.3458px\; font-family: Arial\, Arial_EmbeddedFont\, Arial_MSFontService\, sans-serif\; font-variant-ligatures: none !important\;" xml:lang="EN-US">During this third and final planning call\, the Council will provide </span><span class="TextRun Underlined SCXW180250795 BCX0" data-contrast="auto" lang="EN-US" style="-webkit-user-drag: none\; -webkit-tap-highlight-color: transparent\; margin: 0px\; padding: 0px\; user-select: text\; color: rgb(0\, 0\, 0)\; font-style: normal\; text-align: justify\; white-space-collapse: preserve\; text-decoration-line: underline\; font-size: 11pt\; line-height: 18.3458px\; font-family: Arial\, Arial_EmbeddedFont\, Arial_MSFontService\, sans-serif\; font-variant-ligatures: none !important\;" xml:lang="EN-US"><span class="NormalTextRun SCXW180250795 BCX0" data-ccp-charstyle="normaltextrun" style="-webkit-user-drag: none\; -webkit-tap-highlight-color: transparent\; margin: 0px\; padding: 0px\; user-select: text\;">detailed information</span></span><span class="TextRun SCXW180250795 BCX0" data-contrast="auto" lang="EN-US" style="-webkit-user-drag: none\; -webkit-tap-highlight-color: transparent\; margin: 0px\; padding: 0px\; user-select: text\; color: rgb(0\, 0\, 0)\; font-style: normal\; text-align: justify\; white-space-collapse: preserve\; font-size: 11pt\; line-height: 18.3458px\; font-family: Arial\, Arial_EmbeddedFont\, Arial_MSFontService\, sans-serif\; font-variant-ligatures: none !important\;" xml:lang="EN-US"><span class="NormalTextRun SCXW180250795 BCX0" data-ccp-charstyle="normaltextrun" style="-webkit-user-drag: none\; -webkit-tap-highlight-color: transparent\; margin: 0px\; padding: 0px\; user-select: text\;"> on the upcoming Business Mission\, including information on the confirmed meetings &amp\; the notional schedule\, meeting formats &amp\; talking points\, </span><span class="NormalTextRun SCXW180250795 BCX0" data-ccp-charstyle="normaltextrun" style="-webkit-user-drag: none\; -webkit-tap-highlight-color: transparent\; margin: 0px\; padding: 0px\; user-select: text\;">submission reminders\, </span><span class="NormalTextRun SCXW180250795 BCX0" data-ccp-charstyle="normaltextrun" style="-webkit-user-drag: none\; -webkit-tap-highlight-color: transparent\; margin: 0px\; padding: 0px\; user-select: text\;">mission </span><span class="NormalTextRun SCXW180250795 BCX0" data-ccp-charstyle="normaltextrun" style="-webkit-user-drag: none\; -webkit-tap-highlight-color: transparent\; margin: 0px\; padding: 0px\; user-select: text\;">logistics</span><span class="NormalTextRun SCXW180250795 BCX0" data-ccp-charstyle="normaltextrun" style="-webkit-user-drag: none\; -webkit-tap-highlight-color: transparent\; margin: 0px\; padding: 0px\; user-select: text\;">\, and other pertinent information.&#8239\;</span><span class="NormalTextRun SCXW180250795 BCX0" data-ccp-charstyle="eop" data-ccp-charstyle-defn="{&quot\;ObjectId&quot\;:&quot\;176b0a76-640d-4c04-8c5b-daec27ab8441|20&quot\;\,&quot\;ClassId&quot\;:1073872969\,&quot\;Properties&quot\;:[201342446\,&quot\;1&quot\;\,201342447\,&quot\;5&quot\;\,201342448\,&quot\;1&quot\;\,201342449\,&quot\;1&quot\;\,469777841\,&quot\;Calibri&quot\;\,469777842\,&quot\;&quot\;\,469777843\,&quot\;Calibri&quot\;\,469777844\,&quot\;Calibri&quot\;\,201341986\,&quot\;1&quot\;\,469769226\,&quot\;Calibri&quot\;\,268442635\,&quot\;24&quot\;\,335559704\,&quot\;1025&quot\;\,335559705\,&quot\;1033&quot\;\,335551547\,&quot\;1033&quot\;\,469775450\,&quot\;eop&quot\;\,201340122\,&quot\;1&quot\;\,134233614\,&quot\;true&quot\;\,469778129\,&quot\;eop&quot\;\,335572020\,&quot\;1&quot\;\,469778324\,&quot\;Default Paragraph Font&quot\;]}" style="-webkit-user-drag: none\; -webkit-tap-highlight-color: transparent\; margin: 0px\; padding: 0px\; user-select: text\;">&#8239\;</span></span><span class="EOP SCXW180250795 BCX0" data-ccp-props="{&quot\;134233117&quot\;:false\,&quot\;134233118&quot\;:false\,&quot\;335551550&quot\;:6\,&quot\;335551620&quot\;:6\,&quot\;335559738&quot\;:0\,&quot\;335559739&quot\;:0}" style="-webkit-user-drag: none\; -webkit-tap-highlight-color: transparent\; margin: 0px\; padding: 0px\; user-select: text\; color: rgb(0\, 0\, 0)\; text-align: justify\; white-space-collapse: preserve\; font-size: 11pt\; line-height: 18.3458px\; font-family: Arial\, Arial_EmbeddedFont\, Arial_MSFontService\, sans-serif\;">&nbsp\;</span>
LOCATION:Virtual Event
UID:e.9078.9296
SEQUENCE:3
DTSTAMP:20260422T091434Z
URL:http://usasean.memberzone.com/events/details/2024-philippines-business-mission-planning-call-3-9296
END:VEVENT

END:VCALENDAR
