BEGIN:VCALENDAR
VERSION:2.0
PRODID:-//ChamberMaster//Event Calendar 2.0//EN
METHOD:PUBLISH
X-PUBLISHED-TTL:P3D
REFRESH-INTERVAL:P3D
CALSCALE:GREGORIAN
BEGIN:VEVENT
DTSTART:20240718T060000Z
DTEND:20240718T080000Z
X-MICROSOFT-CDO-ALLDAYEVENT:FALSE
SUMMARY:2024 LCR workshop with assessors (Medical Devices)
DESCRIPTION:The workshop is part of our LCR initiative and will provide a forum in which our members can converse with assessors and have recommendations for LCR reform vetted.
X-ALT-DESC;FMTTYPE=text/html:<span style="background:white\;"><span style="color:#333333\;"><span style="font-family:arial\,sans-serif\;"><span style="font-size:10.0pt\;">The workshop is part of our LCR initiative and will provide a forum in which our members can converse with assessors and have recommendations for LCR reform vetted.&nbsp\;</span></span></span></span>
LOCATION:The Westin\, Medan 1 room
UID:e.9078.9328
SEQUENCE:3
DTSTAMP:20260422T122846Z
URL:http://usasean.memberzone.com/events/details/2024-lcr-workshop-with-assessors-medical-devices-9328
END:VEVENT

END:VCALENDAR
