BEGIN:VCALENDAR
VERSION:2.0
PRODID:-//ChamberMaster//Event Calendar 2.0//EN
METHOD:PUBLISH
X-PUBLISHED-TTL:P3D
REFRESH-INTERVAL:P3D
CALSCALE:GREGORIAN
BEGIN:VEVENT
DTSTART:20240718T020000Z
DTEND:20240718T060000Z
X-MICROSOFT-CDO-ALLDAYEVENT:FALSE
SUMMARY:2024 LCR workshop with assessors (ICT)
DESCRIPTION:The workshop is part of our LCR initiative and will provide a forum in which our members can converse with assessors and have recommendations for LCR reform vetted.
X-ALT-DESC;FMTTYPE=text/html:The workshop is part of our LCR initiative and will provide a forum in which our members can converse with assessors and have recommendations for LCR reform vetted.&nbsp\;
LOCATION:The Westin\, Medan 1 Room
UID:e.9078.9327
SEQUENCE:3
DTSTAMP:20260422T122738Z
URL:http://usasean.memberzone.com/events/details/2024-lcr-workshop-with-assessors-ict-9327
END:VEVENT

END:VCALENDAR
