BEGIN:VCALENDAR
VERSION:2.0
PRODID:-//ChamberMaster//Event Calendar 2.0//EN
METHOD:PUBLISH
X-PUBLISHED-TTL:P3D
REFRESH-INTERVAL:P3D
CALSCALE:GREGORIAN
BEGIN:VEVENT
DTSTART:20240801T013000Z
DTEND:20240801T023000Z
X-MICROSOFT-CDO-ALLDAYEVENT:FALSE
SUMMARY:2024 Health & Life Sciences Q3 Committee Call
DESCRIPTION:
X-ALT-DESC;FMTTYPE=text/html:
LOCATION:
UID:e.9078.9340
SEQUENCE:3
DTSTAMP:20260422T123042Z
URL:http://usasean.memberzone.com/events/details/2024-health-life-sciences-q3-committee-call-9340
END:VEVENT

END:VCALENDAR
