BEGIN:VCALENDAR
VERSION:2.0
PRODID:-//ChamberMaster//Event Calendar 2.0//EN
METHOD:PUBLISH
X-PUBLISHED-TTL:P3D
REFRESH-INTERVAL:P3D
CALSCALE:GREGORIAN
BEGIN:VEVENT
DTSTART:20240314T000000Z
DTEND:20240314T010000Z
X-MICROSOFT-CDO-ALLDAYEVENT:FALSE
SUMMARY:2024 Health & Life Sciences Industry Mission to Vietnam First Planning Call
DESCRIPTION:
X-ALT-DESC;FMTTYPE=text/html:
LOCATION:
UID:e.9078.9256
SEQUENCE:3
DTSTAMP:20260422T061751Z
URL:http://usasean.memberzone.com/events/details/2024-health-life-sciences-industry-mission-to-vietnam-first-planning-call-9256
END:VEVENT

END:VCALENDAR
