BEGIN:VCALENDAR
VERSION:2.0
PRODID:-//ChamberMaster//Event Calendar 2.0//EN
METHOD:PUBLISH
X-PUBLISHED-TTL:P3D
REFRESH-INTERVAL:P3D
CALSCALE:GREGORIAN
BEGIN:VEVENT
DTSTART:20240702T130000Z
DTEND:20240702T140000Z
X-MICROSOFT-CDO-ALLDAYEVENT:FALSE
SUMMARY:2024 Brunei Business Mission First Planning Call
DESCRIPTION:Dear Members\,\n\n \n\nThe US-ASEAN Business Council is organizing the first planning call for the 2024 Brunei Business Mission featuring an Economic Briefing by the Ambassador of Brunei to the United States\, H.E. Dato' Paduka Serbini Ali. The tentative agenda is as follows:\n\n \n1. Economic Briefing by Amb. Serbini Ali (9:00 - 9:30 AM DC time)\n\n\n	 Brunei's 2024 economic priorities\n	US-Brunei 2024 economic priorities \n	Q&A\n\n\n  2. Overview of the Business Mission (9:30 - 10:00 AM DC time)\n\n\n	List of proposed meeting and initial updates\n	Registration\, talking points & socioeconomic report\n	Administrative\, logsitics\, travel requirements\n	Accommodation arrangement\n	Q&A moderated by US-ABC
X-ALT-DESC;FMTTYPE=text/html:<span style="text-align: justify\; font-size: 14px\;"><span style="font-family: arial\;">Dear Members\,<br />\n&nbsp\;<br />\n<span style="background-image: initial\; background-position: initial\; background-size: initial\; background-repeat: initial\; background-attachment: initial\; background-origin: initial\; background-clip: initial\;">The US-ASEAN Business Council is organizing the first planning call for the 2024 Brunei Business Mission featuring an Economic Briefing by the Ambassador of Brunei to the United States\, H.E. Dato&#39\; Paduka Serbini Ali. The tentative agenda is as follows:</span></span></span><br style="text-align: justify\;" />\n&nbsp\;\n<p style="text-align: justify\; font-size: 16px\; caret-color: rgb(33\, 33\, 33)\; color: rgb(33\, 33\, 33)\; font-family: Arial\;"><span style="font-size: 14px\; line-height: 1.2\;"><span style="font-family: arial\;">1.&nbsp\;<strong>Economic Briefing by Amb. Serbini Ali&nbsp\;</strong>(9:00&nbsp\;- 9:30&nbsp\;AM&nbsp\;DC time)</span></span></p>\n\n<ul style="caret-color: rgb(33\, 33\, 33)\; color: rgb(33\, 33\, 33)\; text-align: center\;">\n	<li style="font-family: Arial\; font-size: 16px\; text-align: left\;"><span style="font-size: 14px\; line-height: 1.2\;"><span style="font-family: arial\;">&#8203\;Brunei&#39\;s 2024&nbsp\;</span></span><span style="font-family: arial\; font-size: 14px\; line-height: 1.2\;">economic priorities</span></li>\n	<li style="font-family: Arial\; font-size: 16px\; text-align: left\;"><span style="font-family: arial\; font-size: 14px\;">US-Brunei&nbsp\;2024 economic priorities&nbsp\;</span></li>\n	<li style="font-family: Arial\; font-size: 16px\; text-align: left\;"><span style="font-family: arial\; font-size: 14px\; line-height: 1.2\;">Q&amp\;A</span></li>\n</ul>\n\n<p style="text-align: justify\; font-size: 16px\; caret-color: rgb(33\, 33\, 33)\; color: rgb(33\, 33\, 33)\; font-family: Arial\;">&#8203\;&#8203\;2.&nbsp\;<span style="font-size: 14px\; line-height: 1.2\;"><span style="font-family: arial\;"><strong>Overview of the Business Mission</strong>&nbsp\;(</span></span><span style="font-family: arial\; font-size: 14px\; line-height: 1.2\;">9:30&nbsp\;- 10:00&nbsp\;AM&nbsp\;DC time)</span></p>\n\n<ul style="font-size: 16px\; caret-color: rgb(33\, 33\, 33)\; color: rgb(33\, 33\, 33)\; font-family: Arial\; text-align: center\;">\n	<li style="text-align: left\;"><span style="font-size: 14px\; line-height: 1.2\;"><span style="font-family: arial\;">List of proposed meeting and initial updates</span></span></li>\n	<li style="text-align: left\;"><span style="font-size: 14px\; line-height: 1.2\;"><span style="font-family: arial\;">Registration\, talking points &amp\; socioeconomic report</span></span></li>\n	<li style="text-align: left\;"><span style="font-size: 14px\; line-height: 1.2\;"><span style="font-family: arial\;">Administrative\, logsitics\, travel</span></span><span style="font-size: 14px\; line-height: 1.2\;"><span style="font-family: arial\;">&nbsp\;requirements</span></span></li>\n	<li style="text-align: left\;"><span style="font-size: 14px\; line-height: 1.2\;"><span style="font-family: arial\;">Accommodation arrangement</span></span></li>\n	<li style="text-align: left\;"><span style="font-size: 14px\; line-height: 1.2\;"><span style="font-family: arial\;">Q&amp\;A moderated by US-ABC</span></span></li>\n</ul>\n
LOCATION:
UID:e.9078.9320
SEQUENCE:3
DTSTAMP:20260422T123045Z
URL:http://usasean.memberzone.com/events/details/2024-brunei-business-mission-first-planning-call-9320
END:VEVENT

END:VCALENDAR
