BEGIN:VCALENDAR
VERSION:2.0
PRODID:-//ChamberMaster//Event Calendar 2.0//EN
METHOD:PUBLISH
X-PUBLISHED-TTL:P3D
REFRESH-INTERVAL:P3D
CALSCALE:GREGORIAN
BEGIN:VEVENT
DTSTART:20240125T020000Z
DTEND:20240125T030000Z
X-MICROSOFT-CDO-ALLDAYEVENT:FALSE
SUMMARY:2024 ADGMIN Mission Planning Call #2
DESCRIPTION:
X-ALT-DESC;FMTTYPE=text/html:
LOCATION:Virtual Call (Dial-in details will be sent to members registered for the call)
UID:e.9078.9230
SEQUENCE:3
DTSTAMP:20260422T005858Z
URL:http://usasean.memberzone.com/events/details/2024-adgmin-mission-planning-call-2-9230
END:VEVENT

END:VCALENDAR
