BEGIN:VCALENDAR
VERSION:2.0
PRODID:-//ChamberMaster//Event Calendar 2.0//EN
METHOD:PUBLISH
X-PUBLISHED-TTL:P3D
REFRESH-INTERVAL:P3D
CALSCALE:GREGORIAN
BEGIN:VEVENT
DTSTART:20230426T160000Z
DTEND:20230426T173000Z
X-MICROSOFT-CDO-ALLDAYEVENT:FALSE
SUMMARY:2023 Welcome Luncheon for Ambassador Nazri
DESCRIPTION:The Council is pleased to host a Welcome Luncheon in honor of H.E. Dato' Seri Mohamed Nazri Abdul Aziz\, Ambassador-Designate of Malaysia to the United States.\n\n \n\nAs Ambassador Nazri starts his term\, please join us in celebrating a friend of the U.S. business community. One of Prime Minister Anwar Ibrahim's earliest appointments after the October general elections\, Ambassador Nazri filled a long-vacant position and took up his appointment as Malaysia Ambassador to the United States in March 2023. He has made it his priority to promote U.S.-Malaysia trade\, investment\, and tourism and lead Malaysia's return to rule-making in the international community. He has dedicated his career to serving the people of Malaysia.  Nazri served under three Prime Ministers from 1995 until 2018\, being one of the most senior ministers of 23 years\, starting with his Senatorship in 1995 as Deputy Minister of Finance\, and subsequently as Deputy in Prime Ministers Department. He became the Minister of Entrepreneur Development from 1999 to 2004. After his nine years of Legal portfolios\, in 2013 he was tasked to promote Tourism and Culture\; elevating Malaysia's image to another notch of accolades and achievements. Ambassador Nazri's biography is attached. \n\n \n\nWe hope you will join us on this special occasion\, along with U.S. government officials and other VIPs\, as we honor Ambassador Nazri and welcome him to Washington.
X-ALT-DESC;FMTTYPE=text/html:<span style="font-family:arial\,sans-serif\;"><span style="font-size:11pt\;">The Council is pleased to host a Welcome Luncheon in honor of H.E. Dato&rsquo\; Seri Mohamed Nazri Abdul Aziz\, Ambassador-Designate of Malaysia to the United States.</span></span><br />\n&nbsp\;<br />\n<span style="font-family:arial\,sans-serif\;"><span style="font-size:11pt\;">As Ambassador Nazri starts his term\, please join us in celebrating a friend of the U.S. business community. One of Prime Minister Anwar Ibrahim&rsquo\;s earliest appointments after the October general elections\, Ambassador Nazri filled a long-vacant position and took up his appointment as Malaysia Ambassador to the United States in March 2023. He has made it his priority to promote U.S.-Malaysia trade\, investment\, and tourism and lead Malaysia&rsquo\;s return to rule-making in the international community. He has dedicated his career to serving the people of Malaysia. &nbsp\;</span></span><span style="font-family:arial\,sans-serif\;"><span style="font-size:11pt\;">Nazri served under three Prime Ministers from 1995 until 2018\, being one of the most senior ministers of 23 years\, starting with his Senatorship in 1995 as Deputy Minister of Finance\, and subsequently as Deputy in Prime Ministers Department. He became the Minister of Entrepreneur Development from 1999 to 2004. After his nine years of Legal portfolios\, in 2013 he was tasked to promote Tourism and Culture\; elevating Malaysia&rsquo\;s image to another notch of accolades and achievements. </span></span><span style="font-family:arial\,sans-serif\;"><span style="font-size:11pt\;">Ambassador Nazri&rsquo\;s biography is attached.</span></span>&nbsp\;<br />\n&nbsp\;<br />\n<span style="font-family:arial\,sans-serif\;"><span style="font-size:11pt\;">We hope you will join us on this special occasion\, along with U.S. government officials and other VIPs\, as we honor Ambassador Nazri and welcome him to Washington.</span></span>
LOCATION:
UID:e.9078.8991
SEQUENCE:3
DTSTAMP:20260421T124144Z
URL:http://usasean.memberzone.com/events/details/2023-welcome-luncheon-for-ambassador-nazri-8991
END:VEVENT

END:VCALENDAR
