BEGIN:VCALENDAR
VERSION:2.0
PRODID:-//ChamberMaster//Event Calendar 2.0//EN
METHOD:PUBLISH
X-PUBLISHED-TTL:P3D
REFRESH-INTERVAL:P3D
CALSCALE:GREGORIAN
BEGIN:VEVENT
DTSTART:20230807T030000Z
DTEND:20230807T040000Z
X-MICROSOFT-CDO-ALLDAYEVENT:FALSE
SUMMARY:2023 Vietnam Food & Agriculture Business Mission Planning Call
DESCRIPTION:The first and final planning call for the 2023 Vietnam F&A Business Mission will cover details on the notional schedule\, meeting formats & speaking roles\, logistical arrangements\, and other pertinent information.
X-ALT-DESC;FMTTYPE=text/html:<div style="text-align:justify\;"><span style="font-family:arial\;"><span style="font-size:16px\;"><span style="caret-color: rgb(68\, 68\, 68)\; color: rgb(68\, 68\, 68)\;">The first and final planning call for the 2023 Vietnam F&amp\;A&nbsp\;Business Mission will cover details on the notional schedule\, meeting formats &amp\; speaking roles\, logistical arrangements\, and other pertinent information.&nbsp\;</span></span></span></div>\n
LOCATION:
UID:e.9078.9100
SEQUENCE:3
DTSTAMP:20260421T051408Z
URL:http://usasean.memberzone.com/events/details/2023-vietnam-food-agriculture-business-mission-planning-call-9100
END:VEVENT

END:VCALENDAR
