BEGIN:VCALENDAR
VERSION:2.0
PRODID:-//ChamberMaster//Event Calendar 2.0//EN
METHOD:PUBLISH
X-PUBLISHED-TTL:P3D
REFRESH-INTERVAL:P3D
CALSCALE:GREGORIAN
BEGIN:VEVENT
DTSTART:20231101T220000Z
DTEND:20231102T010000Z
X-MICROSOFT-CDO-ALLDAYEVENT:FALSE
SUMMARY:2023 US-ASEAN Business Council Gala VIP Invite
DESCRIPTION:The US-ASEAN Business Council is pleased to invite you to its 2023 Gala Reception\, a celebration of the Council's work to build bridges and strengthen business ties between ASEAN and the United States.\n\n\n\nThis year's gala will focus on sustainability\, and we are honored to have Senator Tammy Duckworth of Illinois as our keynote speaker. Senator Duckworth is a strong advocate for sustainability and economic development in Southeast Asia\, and she will share her insights on how we can work together to create a more sustainable future for the region.\n\n \nThe gala will be held on November 1\, 2023\, at the Army & Navy Club in Washington\, D.C.\n\n\n\nSchedule:\n\n\n	6:00 p.m. to 7:00 p.m. - Cocktail reception\n	7:00 p.m. to 9:00 p.m. - Dinner and keynote remarks from Senator Tammy Duckworth\n\n\n \nIn attendance will be ASEAN ambassadors and diplomats\, senior officials from the United States government\, Indo-Pacific thought leaders\, and our valued members.\n\nWe hope you will join us for this special evening to celebrate the US-ASEAN partnership and to learn more about how we can work together to build a more sustainable future.\n\n \nWe will provide more details regarding dining options as we get closer to the event.\n\nWhen registering\, please indicate any dietary restrictions in the comments section.\n\n\n\n \n\nWe look forward to celebrating with you! Please contact Drew Hasson at dhasson@usasean.org with any inquiries.
X-ALT-DESC;FMTTYPE=text/html:<div>&nbsp\;</div>\n<span style="caret-color: rgb(33\, 33\, 33)\; color: rgb(33\, 33\, 33)\; font-size: 16px\; text-size-adjust: auto\; font-family: arial\;"><span style="color: rgb(31\, 31\, 31)\;">The US-ASEAN Business Council is pleased to invite you to its 2023 Gala Reception\, a celebration of the Council&#39\;s work to build bridges and strengthen business ties between ASEAN and the United States.</span><br />\n<br />\n<span style="color: rgb(31\, 31\, 31)\;">This year&#39\;s gala will focus on sustainability\, and we are honored to have Senator Tammy Duckworth of Illinois as our keynote speaker. Senator Duckworth is a strong advocate for sustainability and economic development in Southeast Asia\, and she will share her insights on how we can work together to create a more sustainable future for the region.</span></span><br />\n&nbsp\;\n<div><span style="caret-color: rgb(33\, 33\, 33)\; color: rgb(33\, 33\, 33)\; font-size: 16px\; text-size-adjust: auto\; font-family: arial\;"><strong><span style="color: rgb(31\, 31\, 31)\;">The gala will be held on November 1\, 2023\, at the Army &amp\; Navy Club in Washington\, D.C.</span></strong><br />\n<br />\n<span style="color: rgb(31\, 31\, 31)\;">Schedule:</span></span>\n\n<ul style="caret-color: rgb(33\, 33\, 33)\; color: rgb(33\, 33\, 33)\; font-family: Arial\; font-size: 16px\; text-size-adjust: auto\;">\n	<li style="font-size: 12pt\; font-family: Calibri\, sans-serif\; line-height: 1.2\;"><span style="font-family: arial\;"><span style="color: rgb(31\, 31\, 31)\;">6:00 p.m. to 7:00 p.m. - Cocktail reception</span></span></li>\n	<li style="font-size: 12pt\; font-family: Calibri\, sans-serif\; line-height: 1.2\;"><span style="font-family: arial\;"><span style="color: rgb(31\, 31\, 31)\;">7:00 p.m. to 9:00 p.m. - Dinner and keynote remarks from Senator Tammy Duckworth</span></span></li>\n</ul>\n\n<div style="caret-color: rgb(33\, 33\, 33)\; color: rgb(33\, 33\, 33)\; font-size: 12pt\; text-size-adjust: auto\; font-family: Calibri\, sans-serif\; line-height: 1.2\;">&nbsp\;</div>\n<span style="caret-color: rgb(33\, 33\, 33)\; color: rgb(33\, 33\, 33)\; font-size: 16px\; text-size-adjust: auto\; font-family: arial\;"><span style="color: rgb(31\, 31\, 31)\;">In attendance will be ASEAN ambassadors and diplomats\, senior officials from the United States government\, Indo-Pacific thought leaders\, and our valued members.</span><br />\n<span style="color: rgb(31\, 31\, 31)\;">We hope you will join us for this special evening to celebrate the US-ASEAN partnership and to learn more about how we can work together to build a more sustainable future.</span></span><br />\n&nbsp\;\n<div><span style="caret-color: rgb(33\, 33\, 33)\; color: rgb(33\, 33\, 33)\; font-size: 16px\; text-size-adjust: auto\; font-family: arial\;"><span style="color: rgb(31\, 31\, 31)\;">We will provide more details regarding dining options as we get closer to the event.</span></span>\n\n<div><span style="caret-color: rgb(33\, 33\, 33)\; color: rgb(33\, 33\, 33)\; font-size: 16px\; text-size-adjust: auto\; font-family: arial\;"><span style="color: rgb(31\, 31\, 31)\;"><strong>When registering\, please indicate any dietary restrictions in the comments section.</strong></span></span></div>\n</div>\n</div>\n\n<div>&nbsp\;</div>\n\n<div><span style="caret-color: rgb(33\, 33\, 33)\; color: rgb(33\, 33\, 33)\; font-size: 16px\; text-size-adjust: auto\; font-family: arial\;"><span style="text-size-adjust: auto\;">We look forward to celebrating with you! Please contact Drew Hasson at&nbsp\;<a href="mailto:dhasson@usasean.org" style="color: rgb(5\, 99\, 193)\;" title="mailto:dhasson@usasean.org">dhasson@usasean.org</a>&nbsp\;with any</span></span><span style="color: rgb(33\, 33\, 33)\; font-family: arial\; font-size: 16px\; caret-color: rgb(33\, 33\, 33)\;">&nbsp\;inquiries.</span></div>\n
LOCATION:
UID:e.9078.9170
SEQUENCE:3
DTSTAMP:20260421T160651Z
URL:http://usasean.memberzone.com/events/details/2023-us-asean-business-council-gala-vip-invite-9170
END:VEVENT

END:VCALENDAR
