BEGIN:VCALENDAR
VERSION:2.0
PRODID:-//ChamberMaster//Event Calendar 2.0//EN
METHOD:PUBLISH
X-PUBLISHED-TTL:P3D
REFRESH-INTERVAL:P3D
CALSCALE:GREGORIAN
BEGIN:VEVENT
DTSTART:20230615T000000Z
DTEND:20230615T210000Z
X-MICROSOFT-CDO-ALLDAYEVENT:FALSE
SUMMARY:2023 US-ABC CSIS Conference on the Indo-Pacific
DESCRIPTION:In person and livestreamed. For sponsorship opportunities\, please contact Lilibeth Almonte-Arbez lalmonte@usasean.org.
X-ALT-DESC;FMTTYPE=text/html:In person and livestreamed. For sponsorship opportunities\, please contact Lilibeth Almonte-Arbez lalmonte@usasean.org.
LOCATION:CSIS
UID:e.9078.9027
SEQUENCE:3
DTSTAMP:20260421T141026Z
URL:http://usasean.memberzone.com/events/details/2023-us-abc-csis-conference-on-the-indo-pacific-9027
END:VEVENT

END:VCALENDAR
