BEGIN:VCALENDAR
VERSION:2.0
PRODID:-//ChamberMaster//Event Calendar 2.0//EN
METHOD:PUBLISH
X-PUBLISHED-TTL:P3D
REFRESH-INTERVAL:P3D
CALSCALE:GREGORIAN
BEGIN:VEVENT
DTSTART;VALUE=DATE:20230619
DTEND;VALUE=DATE:20230624
TRANSP:TRANSPARENT
X-MICROSOFT-CDO-ALLDAYEVENT:TRUE
SUMMARY:2023 U.S. Ambassadors' Tour - San Francisco & Seattle
DESCRIPTION:2023 U.S. Ambassadors' Tour
X-ALT-DESC;FMTTYPE=text/html:2023 U.S. Ambassadors&#39\; Tour
LOCATION:San Francisco\, California and Seattle\, Washington
UID:e.9078.9005
SEQUENCE:3
DTSTAMP:20260421T124133Z
URL:http://usasean.memberzone.com/events/details/2023-u-s-ambassadors-tour-san-francisco-seattle-9005
END:VEVENT

END:VCALENDAR
