BEGIN:VCALENDAR
VERSION:2.0
PRODID:-//ChamberMaster//Event Calendar 2.0//EN
METHOD:PUBLISH
X-PUBLISHED-TTL:P3D
REFRESH-INTERVAL:P3D
CALSCALE:GREGORIAN
BEGIN:VEVENT
DTSTART:20230819T020000Z
DTEND:20230819T103000Z
X-MICROSOFT-CDO-ALLDAYEVENT:FALSE
SUMMARY:2023 SME Workshop Indonesia: Empowering Indonesia SMEs: Unlocking Digital Potential for Global Success
DESCRIPTION:The US-ASEAN Business Council (the Council) is pleased to continue the ongoing initiatives SME Workshop Series: Building Resiliency for ASEAN SMEs   as a part of the SME Program and ASEAN SME Academy (the Academy)   which aims to help ASEAN small and medium enterprises (SMEs) re-navigate themselves after the COVID-19 pandemic and advance in the digital economy. The upcoming workshop will focus on "Empowering Indonesian SMEs: Unlocking Digital Potential for Global Success"   which will be conducted on Saturday\, August 19\, 2023\, from 09.00 AM   17.30 PM (TBC) in Hotel Tentrem\, Semarang\, Central Java. This workshop will be a sideline event of the 2023 Business Mission to the 56th ASEAN Economic Ministers' (AEM) Meeting and a celebration of the 78th year of Indonesia's independence
X-ALT-DESC;FMTTYPE=text/html:<span style="font-family:arial\,sans-serif\;"><span style="font-size:11pt\;">The US-ASEAN Business Council (the Council) is pleased to continue the ongoing initiatives <strong>SME Workshop Series: Building Resiliency for ASEAN SMEs</strong> &ndash\; as a part of the </span></span><a href="https://www.usasean.org/sme-business-alliance" style="color:rgb(5\, 99\, 193)\;"><span style="font-family:arial\,sans-serif\;"><span style="font-size:11pt\;">SME Program</span></span></a><span style="font-family:arial\,sans-serif\;"><span style="font-size:11pt\;"> and </span></span><a href="http://asean-sme-academy.org/" style="color:rgb(5\, 99\, 193)\;"><span style="font-family:arial\,sans-serif\;"><span style="font-size:11pt\;">ASEAN SME Academy</span></span></a><span style="font-family:arial\,sans-serif\;"><span style="font-size:11pt\;"> (the Academy) &ndash\; which aims to help ASEAN small and medium enterprises (SMEs) re-navigate themselves after the COVID-19 pandemic and advance in the digital economy. The upcoming workshop will focus on <strong>&ldquo\;Empowering Indonesian SMEs: Unlocking Digital Potential for Global Success&rdquo\;</strong> &ndash\; which will be conducted on <strong>Saturday\, August 19\, 2023\, </strong>from <strong>09.00 AM &ndash\; 17.30 PM (TBC) </strong>in Hotel Tentrem\, Semarang\, Central Java. This workshop will be a sideline event of the 2023 Business Mission to the 56<sup>th</sup> ASEAN Economic Ministers&rsquo\; (AEM) Meeting and a celebration of the 78<sup>th</sup> year of Indonesia&rsquo\;s independence</span></span>
LOCATION:Hotel Tentrem\, Semarang\, Central Java
UID:e.9078.9059
SEQUENCE:3
DTSTAMP:20260421T051245Z
URL:http://usasean.memberzone.com/events/details/2023-sme-workshop-indonesia-empowering-indonesia-smes-unlocking-digital-potential-for-global-success-9059
END:VEVENT

END:VCALENDAR
