BEGIN:VCALENDAR
VERSION:2.0
PRODID:-//ChamberMaster//Event Calendar 2.0//EN
METHOD:PUBLISH
X-PUBLISHED-TTL:P3D
REFRESH-INTERVAL:P3D
CALSCALE:GREGORIAN
BEGIN:VEVENT
DTSTART:20230119T020000Z
DTEND:20230119T030000Z
X-MICROSOFT-CDO-ALLDAYEVENT:FALSE
SUMMARY:2023 Singapore First Quarter Committee Call
DESCRIPTION:Please take note that the previous 2023 Singapore Fourth Quarter Committee Call has been moved from January 11 to January 19.\n\n\n\nDial-In Details & Agenda will be sent to registered members.
X-ALT-DESC;FMTTYPE=text/html:<br />\n<u><span style="background-color:#FFFF00\;">Please take note that&nbsp\;the previous&nbsp\;2023 Singapore Fourth Quarter Committee Call has been moved from January 11 to January 19.</span></u><br />\n<br />\nDial-In Details &amp\; Agenda will be sent to registered members.
LOCATION:
UID:e.9078.8924
SEQUENCE:3
DTSTAMP:20260421T213543Z
URL:http://usasean.memberzone.com/events/details/2023-singapore-first-quarter-committee-call-8924
END:VEVENT

END:VCALENDAR
