BEGIN:VCALENDAR
VERSION:2.0
PRODID:-//ChamberMaster//Event Calendar 2.0//EN
METHOD:PUBLISH
X-PUBLISHED-TTL:P3D
REFRESH-INTERVAL:P3D
CALSCALE:GREGORIAN
BEGIN:VEVENT
DTSTART:20230628T010000Z
DTEND:20230628T020000Z
X-MICROSOFT-CDO-ALLDAYEVENT:FALSE
SUMMARY:2023 Singapore Business Mission Planning Call # 2
DESCRIPTION:During the second planning call\, the Council will provide detailed information on the upcoming Business Mission\, including mission registration\, required mission materials and information\, confirmed meetings\, proposed meeting formats\, and mission logistics\, among others.
X-ALT-DESC;FMTTYPE=text/html:<span style="font-family:arial\,sans-serif\;"><span style="font-size:11pt\;">During the second planning call\, the Council will provide detailed information on the upcoming Business Mission\, including mission registration\, required mission materials and information\, confirmed meetings\, proposed meeting formats\, and mission logistics\, among others.</span></span>
LOCATION:Virtual Event
UID:e.9078.9055
SEQUENCE:3
DTSTAMP:20260421T124729Z
URL:http://usasean.memberzone.com/events/details/2023-singapore-business-mission-planning-call-2-9055
END:VEVENT

END:VCALENDAR
