BEGIN:VCALENDAR
VERSION:2.0
PRODID:-//ChamberMaster//Event Calendar 2.0//EN
METHOD:PUBLISH
X-PUBLISHED-TTL:P3D
REFRESH-INTERVAL:P3D
CALSCALE:GREGORIAN
BEGIN:VEVENT
DTSTART:20231206T020000Z
DTEND:20231206T030000Z
X-MICROSOFT-CDO-ALLDAYEVENT:FALSE
SUMMARY:2023 Q4 Singapore Committee Call
DESCRIPTION:During the call\, the Singapore team will be discussing the committee's 2023 key milestones and 2024 workplan.
X-ALT-DESC;FMTTYPE=text/html:<span style="font-size:14px\;"><span style="font-family:arial\;"><span style="color: rgb(36\, 36\, 36)\; border: 1pt none windowtext\; padding: 0in\;">During the call\, the Singapore team will be discussing the committee&rsquo\;s 2023 key milestones and 2024 workplan.</span></span></span>
LOCATION:Virtual
UID:e.9078.9213
SEQUENCE:3
DTSTAMP:20260421T230320Z
URL:http://usasean.memberzone.com/events/details/2023-q4-singapore-committee-call-9213
END:VEVENT

END:VCALENDAR
