BEGIN:VCALENDAR
VERSION:2.0
PRODID:-//ChamberMaster//Event Calendar 2.0//EN
METHOD:PUBLISH
X-PUBLISHED-TTL:P3D
REFRESH-INTERVAL:P3D
CALSCALE:GREGORIAN
BEGIN:VEVENT
DTSTART:20231206T010000Z
DTEND:20231206T020000Z
X-MICROSOFT-CDO-ALLDAYEVENT:FALSE
SUMMARY:2023 Q4 Philippines Committee Call
DESCRIPTION:For the first half of the call\, we have invited Congresswoman Stella Luz A. Quimbo\, to speak about the Government's priorities under the 2024 Proposed National Budget. The discussion will be followed by a Q&A portion.\n\n \n\nFor the second half of the call\, the Philippines team will be discussing the committee's 2023 key milestones and 2024 workplan.
X-ALT-DESC;FMTTYPE=text/html:&nbsp\;<br />\n<span style="border:1pt none windowtext\;padding:0in\;"><span style="color:#242424\;"><span style="font-family:arial\,sans-serif\;"><span style="font-size:11pt\;">For the first half of the call\, we have invited<strong> Congresswoman Stella Luz A. Quimbo\, </strong>to speak about the Government&rsquo\;s priorities under the <strong>2024 Proposed National Budget</strong>. The discussion will be followed by a Q&amp\;A portion.</span></span></span></span><br />\n&nbsp\;<br />\n<span style="border:1pt none windowtext\;padding:0in\;"><span style="color:#242424\;"><span style="font-family:arial\,sans-serif\;"><span style="font-size:11pt\;">For the second half of the call\, the Philippines team will be discussing the committee&rsquo\;s 2023 key milestones and 2024 workplan.</span></span></span></span>
LOCATION:Virtual
UID:e.9078.9209
SEQUENCE:3
DTSTAMP:20260421T230141Z
URL:http://usasean.memberzone.com/events/details/2023-q4-philippines-committee-call-9209
END:VEVENT

END:VCALENDAR
