BEGIN:VCALENDAR
VERSION:2.0
PRODID:-//ChamberMaster//Event Calendar 2.0//EN
METHOD:PUBLISH
X-PUBLISHED-TTL:P3D
REFRESH-INTERVAL:P3D
CALSCALE:GREGORIAN
BEGIN:VEVENT
DTSTART:20231004T010000Z
DTEND:20231004T023000Z
X-MICROSOFT-CDO-ALLDAYEVENT:FALSE
SUMMARY:2023 Q3 ICT Committee Call
DESCRIPTION:
X-ALT-DESC;FMTTYPE=text/html:
LOCATION:Virtual Call (Dial-in details will be sent to members registered for the call)
UID:e.9078.9159
SEQUENCE:3
DTSTAMP:20260421T193205Z
URL:http://usasean.memberzone.com/events/details/2023-q3-ict-committee-call-9159
END:VEVENT

END:VCALENDAR
