BEGIN:VCALENDAR
VERSION:2.0
PRODID:-//ChamberMaster//Event Calendar 2.0//EN
METHOD:PUBLISH
X-PUBLISHED-TTL:P3D
REFRESH-INTERVAL:P3D
CALSCALE:GREGORIAN
BEGIN:VEVENT
DTSTART:20230412T010000Z
DTEND:20230412T023000Z
X-MICROSOFT-CDO-ALLDAYEVENT:FALSE
SUMMARY:2023 Q1 Indonesia Committee Call and 1st Planning Call for 2023 Indonesia Business Mission
DESCRIPTION:The Council is pleased to organize the 2023 Q1 Indonesia Committee Call and the First Planning Call for the 2023 Indonesia Business Mission featuring a briefing by Mr. Bernardino Vega.\n\n\n\nDuring the call\, US-ABC will share initial updates of preparation for the upcoming 2023 Indonesia Business Mission and discuss recaps of Q1 Indonesia Committee activities pertaining to advocacy efforts and industry engagements. The agenda of the call is as follows:\n\n	Economic Briefing and Discussion with Mr. Bernardino Vega\n	Overview of 2023 Indonesia Business Mission\n	Overview of 2023 Indonesia Committee Work Plan\n	Report on the recent ASEAN-Industry Engagements in Indonesia\n	Updates on the current advocacy efforts in Indonesia\n	Discussion and Q&A moderated by  Ambassador Michalak
X-ALT-DESC;FMTTYPE=text/html:<span style="caret-color: rgb(29\, 29\, 29)\; color: rgb(29\, 29\, 29)\; font-family: Arial\, sans-serif\; font-size: 14px\; text-align: justify\; text-size-adjust: auto\;">The Council is pleased to organize the 2023 Q1 Indonesia Committee Call and the First Planning Call for the 2023 Indonesia Business Mission featuring a briefing by Mr. Bernardino Vega.<br />\n<br />\nDuring the call\, US-ABC will share initial updates of preparation for the upcoming 2023 Indonesia Business Mission and discuss recaps of Q1 Indonesia Committee activities pertaining to advocacy efforts and industry engagements. The agenda of the call is as follows:</span>\n<ul>\n	<li style="font-size:10pt\;font-family:Calibri\, sans-serif\;"><span style="font-size:11pt\;">Economic Briefing and Discussion with&nbsp\;Mr. Bernardino Vega</span></li>\n	<li style="font-size:10pt\;font-family:Calibri\, sans-serif\;"><span style="font-size:11pt\;">Overview of 2023 Indonesia Business Mission</span></li>\n	<li style="font-size: 10pt\; font-family: Calibri\, sans-serif\;"><span style="caret-color: rgb(29\, 29\, 29)\; color: rgb(29\, 29\, 29)\; font-size: 14.6667px\; text-size-adjust: auto\;">Overview of 2023 Indonesia Committee Work Plan</span></li>\n	<li style="font-size:10pt\;font-family:Calibri\, sans-serif\;"><span style="font-size:11pt\;">Report on the recent ASEAN-Industry Engagements in Indonesia</span></li>\n	<li style="font-size:10pt\;font-family:Calibri\, sans-serif\;"><span style="font-size:11pt\;">Updates on the current advocacy efforts in Indonesia</span></li>\n	<li style="font-size:10pt\;font-family:Calibri\, sans-serif\;"><span style="font-size:11pt\;">Discussion and Q&amp\;A moderated by&nbsp\; Ambassador Michalak</span></li>\n</ul>\n
LOCATION:Virtual. Zoom dial-in details will be provided upon registration.
UID:e.9078.8994
SEQUENCE:3
DTSTAMP:20260421T125053Z
URL:http://usasean.memberzone.com/events/details/2023-q1-indonesia-committee-call-and-1st-planning-call-for-2023-indonesia-business-mission-8994
END:VEVENT

END:VCALENDAR
