BEGIN:VCALENDAR
VERSION:2.0
PRODID:-//ChamberMaster//Event Calendar 2.0//EN
METHOD:PUBLISH
X-PUBLISHED-TTL:P3D
REFRESH-INTERVAL:P3D
CALSCALE:GREGORIAN
BEGIN:VEVENT
DTSTART:20230321T010000Z
DTEND:20230321T020000Z
X-MICROSOFT-CDO-ALLDAYEVENT:FALSE
SUMMARY:2023 Q1 Customs & Trade Facilitation Committee Call
DESCRIPTION:The Q1 Customs & Trade Facilitation Committee Meeting will focus on reviewing and discussing the 2023 Customs Committee programs and activities\, including potential regional and in-country advocacy issues. The dial-in details and the agenda will be sent to registered members.
X-ALT-DESC;FMTTYPE=text/html:The Q1 Customs &amp\; Trade Facilitation Committee Meeting will focus on reviewing and discussing the 2023 Customs Committee programs and activities\, including potential regional and in-country advocacy issues. The dial-in details and the agenda will be sent to registered members.&nbsp\;
LOCATION:Virtual
UID:e.9078.8981
SEQUENCE:3
DTSTAMP:20260421T124013Z
URL:http://usasean.memberzone.com/events/details/2023-q1-customs-trade-facilitation-committee-call-8981
END:VEVENT

END:VCALENDAR
