BEGIN:VCALENDAR
VERSION:2.0
PRODID:-//ChamberMaster//Event Calendar 2.0//EN
METHOD:PUBLISH
X-PUBLISHED-TTL:P3D
REFRESH-INTERVAL:P3D
CALSCALE:GREGORIAN
BEGIN:VEVENT
DTSTART:20230216T010000Z
DTEND:20230216T021500Z
X-MICROSOFT-CDO-ALLDAYEVENT:FALSE
SUMMARY:2023 Philippines First Quarter Committee Call
DESCRIPTION:Dial-In Details & Agenda will be sent to registered members.
X-ALT-DESC;FMTTYPE=text/html:Dial-In Details &amp\; Agenda will be sent to registered members.<quillbot-extension-portal></quillbot-extension-portal><quillbot-extension-portal></quillbot-extension-portal><quillbot-extension-portal></quillbot-extension-portal><quillbot-extension-portal></quillbot-extension-portal>
LOCATION:
UID:e.9078.8944
SEQUENCE:3
DTSTAMP:20260421T193251Z
URL:http://usasean.memberzone.com/events/details/2023-philippines-first-quarter-committee-call-8944
END:VEVENT

END:VCALENDAR
