BEGIN:VCALENDAR
VERSION:2.0
PRODID:-//ChamberMaster//Event Calendar 2.0//EN
METHOD:PUBLISH
X-PUBLISHED-TTL:P3D
REFRESH-INTERVAL:P3D
CALSCALE:GREGORIAN
BEGIN:VEVENT
DTSTART;VALUE=DATE:20230809
DTEND;VALUE=DATE:20230812
TRANSP:TRANSPARENT
X-MICROSOFT-CDO-ALLDAYEVENT:TRUE
SUMMARY:2023 Philippines Business Mission
DESCRIPTION:Following the success of the business mission in 2022 and high level engagements with President Marcos Jr.?s administration\, this year's Philippines Business Mission will focus on ?Forging Sustainable and Transformational Partnerships for Economic Growth.? The mission?s overarching theme will promote American companies and enable mission participants to engage Philippines government officials and business leaders on the following topics for discussion: sustainable development\, transformative digitalization\, collaboration on innovative healthcare solutions\, advanced manufacturing and supply chains\, and ease of doing business. \n\n\n\nTo register for the business mission\, please contact Angelica Ortega (aortega@usasean.org) and Angelica Takashima (atakashima@usasean.org).
X-ALT-DESC;FMTTYPE=text/html:<span style="caret-color: rgb(33\, 33\, 33)\; color: rgb(33\, 33\, 33)\; font-family: arial\, sans-serif\; font-size: 14.6667px\; text-align: justify\; text-size-adjust: auto\;">Following the success of the business mission in 2022 and high level engagements with President Marcos Jr.?s administration\, this year's Philippines Business Mission will focus on </span><strong style="caret-color: rgb(33\, 33\, 33)\; color: rgb(33\, 33\, 33)\; font-family: arial\, sans-serif\; font-size: 14.6667px\; text-align: justify\; text-size-adjust: auto\;">?</strong><strong style="caret-color: rgb(33\, 33\, 33)\; color: rgb(33\, 33\, 33)\; font-family: arial\, sans-serif\; font-size: 14.6667px\; text-align: justify\; text-size-adjust: auto\;">Forging Sustainable and Transformational Partnerships for Economic Growth.</strong><strong style="caret-color: rgb(33\, 33\, 33)\; color: rgb(33\, 33\, 33)\; font-family: arial\, sans-serif\; font-size: 14.6667px\; text-align: justify\; text-size-adjust: auto\;">?</strong><span style="caret-color: rgb(33\, 33\, 33)\; color: rgb(33\, 33\, 33)\; font-family: arial\, sans-serif\; font-size: 14.6667px\; text-align: justify\; text-size-adjust: auto\;"> The mission?s overarching theme will promote American companies and enable mission participants to engage Philippines government officials and business leaders on the following topics for discussion: sustainable development\, transformative digitalization\, collaboration on innovative healthcare solutions\, advanced manufacturing and supply chains\, and ease of doing business.&nbsp\;<br>\n<br>\nTo register for the business mission\, please contact Angelica Ortega (<a href="mailto:aortega@usasean.org">aortega@usasean.org</a>) and Angelica Takashima (<a href="http://atakashima@usasean.org">atakashima@usasean.org</a>).&nbsp\;</span>
LOCATION:Metro Manila\, Philippines (in-person)
UID:e.9078.9062
SEQUENCE:3
DTSTAMP:20260421T051234Z
URL:http://usasean.memberzone.com/events/details/2023-philippines-business-mission-9062
END:VEVENT

END:VCALENDAR
