BEGIN:VCALENDAR
VERSION:2.0
PRODID:-//ChamberMaster//Event Calendar 2.0//EN
METHOD:PUBLISH
X-PUBLISHED-TTL:P3D
REFRESH-INTERVAL:P3D
CALSCALE:GREGORIAN
BEGIN:VEVENT
DTSTART;VALUE=DATE:20230313
DTEND;VALUE=DATE:20230316
TRANSP:TRANSPARENT
X-MICROSOFT-CDO-ALLDAYEVENT:TRUE
SUMMARY:2023 Malaysia Business Mission
DESCRIPTION:
X-ALT-DESC;FMTTYPE=text/html:
LOCATION:Kuala Lumpur\, Malaysia
UID:e.9078.8926
SEQUENCE:3
DTSTAMP:20260421T141313Z
URL:http://usasean.memberzone.com/events/details/2023-malaysia-business-mission-8926
END:VEVENT

END:VCALENDAR
