BEGIN:VCALENDAR
VERSION:2.0
PRODID:-//ChamberMaster//Event Calendar 2.0//EN
METHOD:PUBLISH
X-PUBLISHED-TTL:P3D
REFRESH-INTERVAL:P3D
CALSCALE:GREGORIAN
BEGIN:VEVENT
DTSTART;VALUE=DATE:20231121
DTEND;VALUE=DATE:20231123
TRANSP:TRANSPARENT
X-MICROSOFT-CDO-ALLDAYEVENT:TRUE
SUMMARY:2023 Food & Agriculture Industry Mission to the Philippines
DESCRIPTION:2023 Food & Agriculture Industry Mission to the Philippines
X-ALT-DESC;FMTTYPE=text/html:2023 Food &amp\; Agriculture Industry Mission to the Philippines
LOCATION:Manila\, Philippines
UID:e.9078.9179
SEQUENCE:3
DTSTAMP:20260421T160947Z
URL:http://usasean.memberzone.com/events/details/2023-food-agriculture-industry-mission-to-the-philippines-9179
END:VEVENT

END:VCALENDAR
