BEGIN:VCALENDAR
VERSION:2.0
PRODID:-//ChamberMaster//Event Calendar 2.0//EN
METHOD:PUBLISH
X-PUBLISHED-TTL:P3D
REFRESH-INTERVAL:P3D
CALSCALE:GREGORIAN
BEGIN:VEVENT
DTSTART;VALUE=DATE:20230815
DTEND;VALUE=DATE:20230817
TRANSP:TRANSPARENT
X-MICROSOFT-CDO-ALLDAYEVENT:TRUE
SUMMARY:2023 Food & Agriculture Business Mission to Vietnam
DESCRIPTION:Dear 2023 Vietnam F&A Business Mission Delegates:\n\n \n\nThank you for registering for the 2023 Food and Agriculture Business Mission and Workshop in Vietnam (August 15 - 16\, 2023). With less than a month away from the mission\, we would like to provide you some updates and reminders:\n \n\n\n	Venue. The Mission and Workshop's main hotel venue will be on Grand Mercure\, 9 Cat Linh Street\, Hanoi. Grand Mercure Hotel will serve as the base camp for schedule briefing and other activities at the Hotel. We highly encourage everyone to make your reservation and stay at Grand Mercure Hotel during the duration of the Mission for your convenience. \n\n	\n		To avail of the Special Booking Rates\, please complete this reservation form and send it to h6936-sl4@accor.com and CC the following: H6936-RE@accor.com and H6936-RE1@accor.com. You can find more details on the hotel terms and conditions in the form.\n		For more information please contact: \n	\n	\n\n\n                                Nguyen Hien Chi | Hanoi\n\n                                p. +84 98 514 0843\n\n                                e. cnguyen@usasean.org\n\n                                \n\n                                Nguyen Hoai Phuong | Hanoi\n\n                                e. pnguyen@usasean.org \n\n                                p. +84 98 883 2287\n \n\n\n	Group Transportation. A group transport will be provided for transit between the Hotel and the meeting venues with Ministries and other Agencies.
X-ALT-DESC;FMTTYPE=text/html:<br />\n<br />\n<br />\n<span style="color:black\;"><span style="font-family:arial\,sans-serif\;"><span style="font-size:11pt\;">Dear&nbsp\;<strong>2023 Vietnam F&amp\;A Business Mission Delegates</strong>:</span></span></span><br />\n&nbsp\;<br />\n<font color="#000000" face="arial\, sans-serif"><span style="font-size: 14.6667px\;">Thank you for registering for the&nbsp\;<strong>2023 Food and Agriculture Business Mission and Workshop in Vietnam&nbsp\;</strong>(August 15 - 16\, 2023). With less than a month away from the mission\, we would like to provide you some updates and reminders:</span></font>\n<div>&nbsp\;</div>\n\n<ul>\n	<li style="font-size: 10pt\; font-family: Calibri\, sans-serif\; color: black\; text-align: justify\; vertical-align: baseline\;"><strong><span style="font-family:arial\,sans-serif\;"><span style="font-size:11pt\;">Venue.&nbsp\;</span></span></strong><span style="font-family:arial\,sans-serif\;"><span style="font-size:11pt\;">The Mission and Workshop&#39\;s main hotel venue will be on&nbsp\;<strong><em>Grand Mercure\, 9 Cat Linh Street\, Hanoi</em></strong>. Grand Mercure Hotel will serve as the base camp for schedule briefing and other activities at the Hotel. We highly encourage everyone to make your reservation and stay at Grand Mercure Hotel during the duration of the Mission for your convenience. </span></span>\n\n	<ul>\n		<li style="font-size: 10pt\; font-family: Calibri\, sans-serif\; color: black\; text-align: justify\; vertical-align: baseline\;"><span style="font-family:arial\,sans-serif\;"><span style="font-size:11pt\;"><span style="font-family:arial\,sans-serif\;"><span style="font-size:11pt\;"><span style="color:black\;"><span style="font-family:arial\,sans-serif\;"><span style="font-size:11pt\;">To avail of the <strong>Special Booking Rates</strong>\, please complete this&nbsp\;<a href="https://drive.google.com/file/d/1wK5CG5raKAlKtcn_8NmzIDkG-uoBVeBC/view?usp=sharing">reservation form</a> and send it to <a href="mailto:h6936-sl4@accor.com" style="color:rgb(0\, 120\, 215)\;" title="mailto:h6936-sl4@accor.com">h6936-sl4@accor.com</a> and CC the following: <a href="mailto:H6936-RE@accor.com" style="color:rgb(0\, 120\, 215)\;" title="mailto:H6936-RE@accor.com">H6936-RE@accor.com</a> and <a href="mailto:H6936-RE1@accor.com" style="color:rgb(0\, 120\, 215)\;" title="mailto:H6936-RE1@accor.com">H6936-RE1@accor.com</a>. You can find more details on the hotel terms and conditions in the form.</span></span></span></span></span></span></span></li>\n		<li style="font-size: 10pt\; font-family: Calibri\, sans-serif\; color: black\; text-align: justify\; vertical-align: baseline\;"><span style="font-family:arial\,sans-serif\;"><span style="font-size:11pt\;"><span style="font-family:arial\,sans-serif\;"><span style="font-size:11pt\;"><span style="color:black\;"><span style="font-family:arial\,sans-serif\;"><span style="font-size:11pt\;"><span style="color:black\;"><span style="font-family:arial\,sans-serif\;"><span style="font-size:11pt\;"><strong>For more information please contact:&nbsp\;</strong></span></span></span></span></span></span></span></span></span></span></li>\n	</ul>\n	</li>\n</ul>\n\n<div style="font-size: 10pt\; font-family: Calibri\, sans-serif\; color: black\; text-align: justify\; vertical-align: baseline\;">&nbsp\;&nbsp\;&nbsp\;&nbsp\;&nbsp\;&nbsp\;&nbsp\;&nbsp\;&nbsp\;&nbsp\;&nbsp\;&nbsp\;&nbsp\;&nbsp\;&nbsp\;&nbsp\;&nbsp\;&nbsp\;&nbsp\;&nbsp\;&nbsp\;&nbsp\;&nbsp\;&nbsp\;&nbsp\;&nbsp\;&nbsp\;&nbsp\;&nbsp\;&nbsp\;&nbsp\;&nbsp\;<span style="font-family:arial\,sans-serif\;"><span style="font-size:11pt\;"><span style="font-family:arial\,sans-serif\;"><span style="font-size:11pt\;"><span style="color:black\;"><span style="font-family:arial\,sans-serif\;"><span style="font-size:11pt\;"><span style="color:black\;"><span style="font-family:arial\,sans-serif\;"><span style="font-size:11pt\;"><span style="color:black\;"><span style="font-family:arial\,sans-serif\;"><span style="font-size:11pt\;"><strong>Nguyen Hien Chi</strong> | Hanoi</span></span></span></span></span></span></span></span></span></span></span></span></span></div>\n\n<div style="font-size: 10pt\; font-family: Calibri\, sans-serif\; color: black\; text-align: justify\; vertical-align: baseline\;">&nbsp\;&nbsp\;&nbsp\;&nbsp\;&nbsp\;&nbsp\;&nbsp\;&nbsp\;&nbsp\;&nbsp\;&nbsp\;&nbsp\;&nbsp\;&nbsp\;&nbsp\;&nbsp\;&nbsp\;&nbsp\;&nbsp\;&nbsp\;&nbsp\;&nbsp\;&nbsp\;&nbsp\;&nbsp\;&nbsp\;&nbsp\;&nbsp\;&nbsp\;&nbsp\;&nbsp\;&nbsp\;<span style="font-family:arial\,sans-serif\;"><span style="font-size:11pt\;"><span style="font-family:arial\,sans-serif\;"><span style="font-size:11pt\;"><span style="color:black\;"><span style="font-family:arial\,sans-serif\;"><span style="font-size:11pt\;"><span style="color:black\;"><span style="font-family:arial\,sans-serif\;"><span style="font-size:11pt\;"><span style="color:black\;"><span style="font-family:arial\,sans-serif\;"><span style="font-size:11pt\;"><span style="color:black\;"><span style="font-family:arial\,sans-serif\;"><span style="font-size:11pt\;"><span style="background-color:inherit !important\;"><span style="color:inherit !important\;"><span style="background-color:inherit !important\;"><span style="color:inherit !important\;">p. <a href="tel:+84985140843" style="color:rgb(0\, 120\, 215)\;">+84 98 514 0843</a></span></span></span></span></span></span></span></span></span></span></span></span></span></span></span></span></span></span></span></span></div>\n\n<div style="font-size: 10pt\; font-family: Calibri\, sans-serif\; color: black\; text-align: justify\; vertical-align: baseline\;">&nbsp\;&nbsp\;&nbsp\;&nbsp\;&nbsp\;&nbsp\;&nbsp\;&nbsp\;&nbsp\;&nbsp\;&nbsp\;&nbsp\;&nbsp\;&nbsp\;&nbsp\;&nbsp\;&nbsp\;&nbsp\;&nbsp\;&nbsp\;&nbsp\;&nbsp\;&nbsp\;&nbsp\;&nbsp\;&nbsp\;&nbsp\;&nbsp\;&nbsp\;&nbsp\;&nbsp\;&nbsp\;<span style="font-family:arial\,sans-serif\;"><span style="font-size:11pt\;"><span style="font-family:arial\,sans-serif\;"><span style="font-size:11pt\;"><span style="color:black\;"><span style="font-family:arial\,sans-serif\;"><span style="font-size:11pt\;"><span style="color:black\;"><span style="font-family:arial\,sans-serif\;"><span style="font-size:11pt\;"><span style="color:black\;"><span style="font-family:arial\,sans-serif\;"><span style="font-size:11pt\;"><span style="color:black\;"><span style="font-family:arial\,sans-serif\;"><span style="font-size:11pt\;"><span style="color:black\;"><span style="font-family:arial\,sans-serif\;"><span style="font-size:11pt\;">e.&nbsp\;</span></span></span><span style="color:black\;"><span style="font-family:arial\,sans-serif\;"><span style="font-size:11pt\;"><a href="mailto:cnguyen@usasean.org" style="color:rgb(0\, 120\, 215)\;" title="mailto:cnguyen@usasean.org">cnguyen@usasean.org</a></span></span></span></span></span></span></span></span></span></span></span></span></span></span></span></span></span></span></span></div>\n\n<div style="font-size: 10pt\; font-family: Calibri\, sans-serif\; color: black\; text-align: justify\; vertical-align: baseline\;">&nbsp\;&nbsp\;&nbsp\;&nbsp\;&nbsp\;&nbsp\;&nbsp\;&nbsp\;&nbsp\;&nbsp\;&nbsp\;&nbsp\;&nbsp\;&nbsp\;&nbsp\;&nbsp\;&nbsp\;&nbsp\;&nbsp\;&nbsp\;&nbsp\;&nbsp\;&nbsp\;&nbsp\;&nbsp\;&nbsp\;&nbsp\;&nbsp\;&nbsp\;&nbsp\;&nbsp\;&nbsp\;<br />\n&nbsp\;&nbsp\;&nbsp\;&nbsp\;&nbsp\;&nbsp\;&nbsp\;&nbsp\;&nbsp\;&nbsp\;&nbsp\;&nbsp\;&nbsp\;&nbsp\;&nbsp\;&nbsp\;&nbsp\;&nbsp\;&nbsp\;&nbsp\;&nbsp\;&nbsp\;&nbsp\;&nbsp\;&nbsp\;&nbsp\;&nbsp\;&nbsp\;&nbsp\;&nbsp\;&nbsp\;&nbsp\;<span style="font-family:arial\,sans-serif\;"><span style="font-size:11pt\;"><span style="font-family:arial\,sans-serif\;"><span style="font-size:11pt\;"><span style="color:black\;"><span style="font-family:arial\,sans-serif\;"><span style="font-size:11pt\;"><span style="color:black\;"><span style="font-family:arial\,sans-serif\;"><span style="font-size:11pt\;"><span style="color:black\;"><span style="font-family:arial\,sans-serif\;"><span style="font-size:11pt\;"><span style="color:black\;"><span style="font-family:arial\,sans-serif\;"><span style="font-size:11pt\;"><span style="color:black\;"><span style="font-family:arial\,sans-serif\;"><span style="font-size:11pt\;"><a href="mailto:cnguyen@usasean.org" style="color:rgb(0\, 120\, 215)\;" title="mailto:cnguyen@usasean.org"><span style="color:black\;"><span style="font-family:arial\,sans-serif\;"><span style="font-size:11pt\;"><strong>Nguyen Hoai Phuong</strong> | Hanoi</span></span></span></a></span></span></span></span></span></span></span></span></span></span></span></span></span></span></span></span></span></span></span></div>\n\n<div style="font-size: 10pt\; font-family: Calibri\, sans-serif\; color: black\; text-align: justify\; vertical-align: baseline\;">&nbsp\;&nbsp\;&nbsp\;&nbsp\;&nbsp\;&nbsp\;&nbsp\;&nbsp\;&nbsp\;&nbsp\;&nbsp\;&nbsp\;&nbsp\;&nbsp\;&nbsp\;&nbsp\;&nbsp\;&nbsp\;&nbsp\;&nbsp\;&nbsp\;&nbsp\;&nbsp\;&nbsp\;&nbsp\;&nbsp\;&nbsp\;&nbsp\;&nbsp\;&nbsp\;&nbsp\;&nbsp\;<span style="font-family:arial\,sans-serif\;"><span style="font-size:11pt\;"><span style="font-family:arial\,sans-serif\;"><span style="font-size:11pt\;"><span style="color:black\;"><span style="font-family:arial\,sans-serif\;"><span style="font-size:11pt\;"><span style="color:black\;"><span style="font-family:arial\,sans-serif\;"><span style="font-size:11pt\;"><span style="color:black\;"><span style="font-family:arial\,sans-serif\;"><span style="font-size:11pt\;"><span style="color:black\;"><span style="font-family:arial\,sans-serif\;"><span style="color:black\;"><span style="font-family:arial\,sans-serif\;"><span style="font-size:11pt\;">e.&nbsp\;</span></span></span><span style="color:black\;"><span style="font-family:arial\,sans-serif\;"><span style="font-size:11pt\;"><a href="mailto:pnguyen@usasean.org" style="color:rgb(0\, 120\, 215)\;" title="mailto:pnguyen@usasean.org">pnguyen@usasean.org</a>&nbsp\;</span></span></span></span></span></span></span></span></span></span></span></span></span></span></span></span></span></span></div>\n\n<div style="font-size: 10pt\; font-family: Calibri\, sans-serif\; color: black\; text-align: justify\; vertical-align: baseline\;">&nbsp\;&nbsp\;&nbsp\;&nbsp\;&nbsp\;&nbsp\;&nbsp\;&nbsp\;&nbsp\;&nbsp\;&nbsp\;&nbsp\;&nbsp\;&nbsp\;&nbsp\;&nbsp\;&nbsp\;&nbsp\;&nbsp\;&nbsp\;&nbsp\;&nbsp\;&nbsp\;&nbsp\;&nbsp\;&nbsp\;&nbsp\;&nbsp\;&nbsp\;&nbsp\;&nbsp\;&nbsp\;<span style="font-family:arial\,sans-serif\;"><span style="font-size:11pt\;"><span style="font-family:arial\,sans-serif\;"><span style="font-size:11pt\;"><span style="color:black\;"><span style="font-family:arial\,sans-serif\;"><span style="font-size:11pt\;"><span style="color:black\;"><span style="font-family:arial\,sans-serif\;"><span style="font-size:11pt\;"><span style="color:black\;"><span style="font-family:arial\,sans-serif\;"><span style="font-size:11pt\;"><span style="color:black\;"><span style="font-family:arial\,sans-serif\;"><span style="font-size:11pt\;"><span style="color:black\;"><span style="font-family:arial\,sans-serif\;"><span style="font-size:11pt\;"><a href="mailto:cnguyen@usasean.org" style="color:rgb(0\, 120\, 215)\;" title="mailto:cnguyen@usasean.org"><span style="color:black\;"><span style="font-family:arial\,sans-serif\;"><span style="font-size:11pt\;"><span style="color:black\;"><span style="font-family:arial\,sans-serif\;"><span style="font-size:11pt\;"><span style="background-color:inherit !important\;"><span style="color:inherit !important\;"><span style="background-color:inherit !important\;"><span style="color:inherit !important\;">p. </span></span></span></span></span></span></span></span></span></span></a><a href="tel:+84988832287" style="color:rgb(0\, 120\, 215)\;">+84 98 883 2287</a></span></span></span></span></span></span></span></span></span></span></span></span></span></span></span></span></span></span></span></div>\n&nbsp\;\n\n<ul>\n	<li style="font-size: 10pt\; font-family: Calibri\, sans-serif\; color: black\; text-align: justify\; vertical-align: baseline\;"><strong><span style="font-family:arial\,sans-serif\;"><span style="font-size:11pt\;">Group Transportation.</span></span></strong><span style="font-family:arial\,sans-serif\;"><span style="font-size:11pt\;"> A group transport will be provided for transit between the Hotel and the meeting venues with Ministries and other Agencies.</span></span></li>\n</ul>\n
LOCATION:
UID:e.9078.9070
SEQUENCE:3
DTSTAMP:20260421T051407Z
URL:http://usasean.memberzone.com/events/details/2023-food-agriculture-business-mission-to-vietnam-9070
END:VEVENT

END:VCALENDAR
