BEGIN:VCALENDAR
VERSION:2.0
PRODID:-//ChamberMaster//Event Calendar 2.0//EN
METHOD:PUBLISH
X-PUBLISHED-TTL:P3D
REFRESH-INTERVAL:P3D
CALSCALE:GREGORIAN
BEGIN:VEVENT
DTSTART:20230505T003000Z
DTEND:20230505T013000Z
X-MICROSOFT-CDO-ALLDAYEVENT:FALSE
SUMMARY:2023 Energy Committee Briefing with the ASEAN Center for Energy
DESCRIPTION:Join us in attending a special briefing from Dr. Nuki Agya Utama\, Executive Director of the ASEAN Center for energy\, regarding the upcoming ASEAN Energy Business Forum (AEBF) 2023 alongside the ASEAN Energy Ministers meeting taking place in Bali on 24-26 August 2023.\n\n\n\nThe briefing includes potential opportunities for private sectors during the AEBF 2023 as well as the emerging priority themes of interest to the ASEAN Energy Ministers including but not limited to:\n\n\n	ASEAN Power Grid Interconnection:  Connecting Renewable Energy to Tackle Intermittency\n	ASEAN Supply Chain to Ensure Energy Security and Accelerate Energy Transition\n	Sustainable Energy Financing\n	Digitalization support in Energy Sector\n	Sustainable Fuel: Implementation and Future Prospects to Support ASEAN Energy Security\n	CCS/CCUS\, Carbon price and market in ASEAN\n	Hydrogen and Ammonia as energy source of the Future\n	Electric Vehicles and Sustainable Transport in ASEAN\n	Among others. \n\n\nFor questions\, please email Christine Wan (cwan@usasean.org) and Lauren Mai (lmai@usasean.org).
X-ALT-DESC;FMTTYPE=text/html:<div style="font-size: 16px\;"><span style="font-family: arial\;">Join us in&nbsp\;attending a special briefing from&nbsp\;<a href="https://aseanenergy.org/people/#management-and-staff">Dr. Nuki Agya Utama</a>\, Executive Director of the ASEAN Center for energy\, regarding the upcoming ASEAN Energy Business Forum (AEBF) 2023 alongside the ASEAN Energy Ministers meeting taking place in Bali on 24-26 August 2023.<br />\n<br />\nThe briefing includes potential opportunities for private sectors during the AEBF 2023 as well as the emerging priority themes of interest to the ASEAN Energy Ministers including but not limited to:</span></div>\n\n<ul style="font-size: 16px\; text-align: center\;">\n	<li style="text-align: left\;"><span style="font-family: arial\;">ASEAN Power Grid Interconnection:&nbsp\; Connecting Renewable Energy to Tackle Intermittency</span></li>\n	<li style="text-align: left\;"><span style="font-family: arial\;">ASEAN Supply Chain to Ensure Energy Security and Accelerate Energy Transition</span></li>\n	<li style="text-align: left\;"><span style="font-family: arial\;">Sustainable Energy Financing</span></li>\n	<li style="text-align: left\;"><span style="font-family: arial\;">Digitalization support in Energy Sector</span></li>\n	<li style="text-align: left\;"><span style="font-family: arial\;">Sustainable Fuel: Implementation and Future Prospects to Support ASEAN Energy Security</span></li>\n	<li style="text-align: left\;"><span style="font-family: arial\;">CCS/CCUS\, Carbon price and market in ASEAN</span></li>\n	<li style="text-align: left\;"><span style="font-family: arial\;">Hydrogen and Ammonia as energy source of the Future</span></li>\n	<li style="text-align: left\;"><span style="font-family: arial\;">Electric Vehicles and Sustainable Transport in ASEAN</span></li>\n	<li style="text-align: left\;"><span style="font-family: arial\;">Among others.&nbsp\;</span></li>\n</ul>\n\n<div style="text-align: left\;"><span style="font-family: arial\; font-size: 16px\;">For questions\, please email Christine Wan (</span><a href="mailto:cwan@usasean.org" style="font-family: arial\; font-size: 16px\;">cwan@usasean.org</a><span style="font-family: arial\; font-size: 16px\;">) and Lauren Mai (</span><a href="mailto:lmai@usasean.org" style="font-family: arial\; font-size: 16px\;">lmai@usasean.org</a><span style="font-family: arial\; font-size: 16px\;">).</span></div>\n
LOCATION:
UID:e.9078.9013
SEQUENCE:3
DTSTAMP:20260421T124933Z
URL:http://usasean.memberzone.com/events/details/2023-energy-committee-briefing-with-the-asean-center-for-energy-9013
END:VEVENT

END:VCALENDAR
