BEGIN:VCALENDAR
VERSION:2.0
PRODID:-//ChamberMaster//Event Calendar 2.0//EN
METHOD:PUBLISH
X-PUBLISHED-TTL:P3D
REFRESH-INTERVAL:P3D
CALSCALE:GREGORIAN
BEGIN:VEVENT
DTSTART:20230419T150000Z
DTEND:20230420T003000Z
X-MICROSOFT-CDO-ALLDAYEVENT:FALSE
SUMMARY:2023 Digital Transformation in Government Workshop
DESCRIPTION:The "Digital Transformation in Government Workshop Series" is a venue for relevant Philippine government agencies\, particularly their Chief Technology Officers\, to discuss how the private sector can assist in their specific digital transformation initiatives and how other government agencies can encourage more inter-agency cooperation and dialogue.
X-ALT-DESC;FMTTYPE=text/html:The &quot\;Digital Transformation in Government Workshop Series&quot\; is a venue for relevant Philippine government agencies\, particularly their Chief Technology Officers\, to discuss how the private sector can assist in their specific digital transformation initiatives and how other government agencies can encourage more inter-agency cooperation and dialogue.&nbsp\;<quillbot-extension-portal></quillbot-extension-portal>
LOCATION:Ascott Bonifacio Global City Taguig City\, Metro Manila Philippines
UID:e.9078.8978
SEQUENCE:3
DTSTAMP:20260421T141039Z
URL:http://usasean.memberzone.com/events/details/2023-digital-transformation-in-government-workshop-8978
END:VEVENT

END:VCALENDAR
