BEGIN:VCALENDAR
VERSION:2.0
PRODID:-//ChamberMaster//Event Calendar 2.0//EN
METHOD:PUBLISH
X-PUBLISHED-TTL:P3D
REFRESH-INTERVAL:P3D
CALSCALE:GREGORIAN
BEGIN:VEVENT
DTSTART;VALUE=DATE:20231211
DTEND;VALUE=DATE:20231215
TRANSP:TRANSPARENT
X-MICROSOFT-CDO-ALLDAYEVENT:TRUE
SUMMARY:2023 Digital Economy Mission to Vietnam (call for interest)
DESCRIPTION:The Council is organizing an inaugural Digital Economy Mission to Vietnam on December 11   14\, 2023. The mission aims to bring the American technology industry representatives to discuss with the Government of Vietnam specific initiatives to accelerate digital transformation and develop the semiconductor supply chains in Vietnam.
X-ALT-DESC;FMTTYPE=text/html:<span style="caret-color: rgb(33\, 33\, 33)\; color: rgb(33\, 33\, 33)\; font-family: Arial\, sans-serif\; font-size: 16px\; text-size-adjust: auto\;">The Council is organizing an inaugural </span><strong style="caret-color: rgb(33\, 33\, 33)\; color: rgb(33\, 33\, 33)\; font-family: Arial\, sans-serif\; font-size: 16px\; text-size-adjust: auto\;">Digital Economy Mission to Vietnam&nbsp\;</strong><span style="caret-color: rgb(33\, 33\, 33)\; color: rgb(33\, 33\, 33)\; font-family: Arial\, sans-serif\; font-size: 16px\; text-size-adjust: auto\;">on </span><strong style="caret-color: rgb(33\, 33\, 33)\; color: rgb(33\, 33\, 33)\; font-family: Arial\, sans-serif\; font-size: 16px\; text-size-adjust: auto\;">December 11 &ndash\; 14\, 2023</strong><span style="caret-color: rgb(33\, 33\, 33)\; color: rgb(33\, 33\, 33)\; font-family: Arial\, sans-serif\; font-size: 16px\; text-size-adjust: auto\;">.&nbsp\;</span><span style="caret-color: rgb(33\, 33\, 33)\; color: rgb(33\, 33\, 33)\; font-family: Arial\, sans-serif\; font-size: 16px\; text-size-adjust: auto\;">The mission aims to bring the American technology industry representatives to discuss with the Government of Vietnam specific initiatives to accelerate digital transformation and develop the semiconductor supply chains in Vietnam. </span><br />\n&nbsp\;
LOCATION:December 11 - 12: Hanoi\, Vietnam December 13 - 14: Ha Long\, Vietnam
UID:e.9078.9175
SEQUENCE:3
DTSTAMP:20260421T230556Z
URL:http://usasean.memberzone.com/events/details/2023-digital-economy-mission-to-vietnam-call-for-interest-9175
END:VEVENT

END:VCALENDAR
