BEGIN:VCALENDAR
VERSION:2.0
PRODID:-//ChamberMaster//Event Calendar 2.0//EN
METHOD:PUBLISH
X-PUBLISHED-TTL:P3D
REFRESH-INTERVAL:P3D
CALSCALE:GREGORIAN
BEGIN:VEVENT
DTSTART:20230925T120000Z
DTEND:20230925T130000Z
X-MICROSOFT-CDO-ALLDAYEVENT:FALSE
SUMMARY:2023 Business Mission to the 29th ATM Planning Call #1
DESCRIPTION:First Planning Call for the 2023 Business Mission to the 29th ATM
X-ALT-DESC;FMTTYPE=text/html:First Planning Call for the 2023 Business Mission to the 29th ATM
LOCATION:Virtual
UID:e.9078.9153
SEQUENCE:3
DTSTAMP:20260421T173926Z
URL:http://usasean.memberzone.com/events/details/2023-business-mission-to-the-29th-atm-planning-call-1-9153
END:VEVENT

END:VCALENDAR
