BEGIN:VCALENDAR
VERSION:2.0
PRODID:-//ChamberMaster//Event Calendar 2.0//EN
METHOD:PUBLISH
X-PUBLISHED-TTL:P3D
REFRESH-INTERVAL:P3D
CALSCALE:GREGORIAN
BEGIN:VEVENT
DTSTART;VALUE=DATE:20231106
DTEND;VALUE=DATE:20231111
TRANSP:TRANSPARENT
X-MICROSOFT-CDO-ALLDAYEVENT:TRUE
SUMMARY:2023 Business Mission to the 29th ASEAN Transport Ministers Meeting
DESCRIPTION:The US-ASEAN Business Council is pleased to open registration for its business mission at the 29th ASEAN Transport Ministers Meeting (29th ATM). This will be the eighth consecutive engagement at the ATM and will be the second in-person ATM mission since 2019. \n\n\n\nThe deadline for receiving overall registration and mission materials is Friday\, October 13. Early submissions of materials\, such as talking points and meeting priority\, would be greatly appreciated to facilitate the securing of meetings.\n\n\n\nThis year the 29th ATM will be held in Luang Prabang\, Lao PDR\, from Monday\, November 9 to Friday\, November 10. As part of the Mission to the 29th ATM\, the Council has requested a Private Sector Working Luncheon with the 10 ASEAN Ministries of Transport (MOT) and the opportunity to engage ASEAN Senior Transport Officials during their official meetings (STOM) on 9 November\, 2023 at 12:30   14:00 (TBC) - please note that both sessions are still awaiting confirmation from the ASEAN Secretariat and the 10 ASEAN MOTs. If you would like to receive more information on the Mission to the 29th ATM\, please contact Angelica Takashima atakashima@usasean.org or Celine Kusnadi ckusnadi@usasean.org.
X-ALT-DESC;FMTTYPE=text/html:<span style="font-family:arial\,sans-serif\;"><span style="font-size:12pt\;">The US-ASEAN Business Council is pleased to open registration for its business mission at the 29</span></span><sup style="font-family:Arial\, sans-serif\;font-size:12pt\;">th</sup><span style="font-family:arial\,sans-serif\;"><span style="font-size:12pt\;"> ASEAN Transport Ministers Meeting (29</span></span><sup style="font-family:Arial\, sans-serif\;font-size:12pt\;">th</sup><span style="font-family:arial\,sans-serif\;"><span style="font-size:12pt\;"> ATM). This will be the eighth consecutive engagement at the ATM and will be the second in-person ATM mission since 2019.&nbsp\;</span></span><br />\n<br />\n<span style="font-family:arial\,sans-serif\;"><span style="font-size:12pt\;">The deadline for receiving overall registration and mission materials is&nbsp\;</span></span><strong style="font-family:Arial\, sans-serif\;font-size:12pt\;"><span style="background:yellow\;"><span style="color:red\;">Friday\, October 13.</span></span>&nbsp\;</strong><u style="font-family:Arial\, sans-serif\;font-size:12pt\;">Early submissions of materials\, such as talking points and meeting priority\, would be greatly appreciated to facilitate the securing of meetings.</u><br />\n<br />\n<span style="font-family:arial\,sans-serif\;"><span style="font-size:12pt\;">This year the 29</span></span><sup style="font-family:Arial\, sans-serif\;font-size:12pt\;">th</sup><span style="font-family:arial\,sans-serif\;"><span style="font-size:12pt\;"> ATM&nbsp\;will be held in Luang Prabang\, Lao PDR\,&nbsp\;from&nbsp\;Monday</span></span><strong><span style="font-family:arial\,sans-serif\;"><span style="font-size:12pt\;">\,&nbsp\;November 9 to Friday\, November 10</span></span><span style="font-family:calibri\,sans-serif\;"><span style="font-size:10.6667px\;">.</span></span></strong><span style="font-family:arial\,sans-serif\;"><span style="font-size:12pt\;">&nbsp\;As part of the Mission to the 29<sup>th</sup> ATM\, the Council has requested a Private Sector&nbsp\;Working Luncheon with the 10 ASEAN Ministries of Transport (MOT) and the opportunity to engage ASEAN Senior Transport Officials during their official meetings (STOM) on 9 November\, 2023 at 12:30 &ndash\; 14:00 (TBC) -&nbsp\;<u>please note that both sessions are still awaiting confirmation from the ASEAN Secretariat and the 10 ASEAN MOTs.</u>&nbsp\;If you would like to receive more information on the&nbsp\;Mission to the 29<sup>th</sup> ATM\, please contact Angelica Takashima </span></span><span style="font-family:calibri\,sans-serif\;"><span style="font-size:12pt\;"><a href="mailto:atakashima@usasean.org" style="color:rgb(5\, 99\, 193)\;"><span style="font-family:arial\,sans-serif\;">atakashima@usasean.org</span></a></span></span><span style="font-family:arial\,sans-serif\;"><span style="font-size:12pt\;"> or Celine Kusnadi </span></span><span style="font-family:calibri\,sans-serif\;"><span style="font-size:12pt\;"><a href="mailto:ckusnadi@usasean.org" style="color:rgb(5\, 99\, 193)\;"><span style="font-family:arial\,sans-serif\;">ckusnadi@usasean.org</span></a></span></span><span style="font-family:arial\,sans-serif\;"><span style="font-size:12pt\;">. &nbsp\;</span></span>\n<div>\n<div>\n<div id="_com_1" uage="JavaScript"><br />\n&nbsp\;</div>\n</div>\n</div>\n
LOCATION:Luang Prabang\, Lao PDR
UID:e.9078.9142
SEQUENCE:3
DTSTAMP:20260421T160944Z
URL:http://usasean.memberzone.com/events/details/2023-business-mission-to-the-29th-asean-transport-ministers-meeting-9142
END:VEVENT

END:VCALENDAR
