BEGIN:VCALENDAR
VERSION:2.0
PRODID:-//ChamberMaster//Event Calendar 2.0//EN
METHOD:PUBLISH
X-PUBLISHED-TTL:P3D
REFRESH-INTERVAL:P3D
CALSCALE:GREGORIAN
BEGIN:VEVENT
DTSTART:20231031T120000Z
DTEND:20231101T010000Z
X-MICROSOFT-CDO-ALLDAYEVENT:FALSE
SUMMARY:2023 ASEAN COSTI Tours
DESCRIPTION:
X-ALT-DESC;FMTTYPE=text/html:
LOCATION:Washington DC
UID:e.9078.9141
SEQUENCE:3
DTSTAMP:20260421T174603Z
URL:http://usasean.memberzone.com/events/details/2023-asean-costi-tours-9141
END:VEVENT

END:VCALENDAR
