BEGIN:VCALENDAR
VERSION:2.0
PRODID:-//ChamberMaster//Event Calendar 2.0//EN
METHOD:PUBLISH
X-PUBLISHED-TTL:P3D
REFRESH-INTERVAL:P3D
CALSCALE:GREGORIAN
BEGIN:VEVENT
DTSTART;VALUE=DATE:20231114
DTEND;VALUE=DATE:20231117
TRANSP:TRANSPARENT
X-MICROSOFT-CDO-ALLDAYEVENT:TRUE
SUMMARY:2023 APEC CEO Summit
DESCRIPTION:2023 APEC CEO Summit\n\nhttps://apecceosummit2023.com/
X-ALT-DESC;FMTTYPE=text/html:2023 APEC CEO Summit<br />\nhttps://apecceosummit2023.com/<br />\n&nbsp\;
LOCATION:San Francisco\, California\, USA
UID:e.9078.9187
SEQUENCE:3
DTSTAMP:20260421T210840Z
URL:http://usasean.memberzone.com/events/details/2023-apec-ceo-summit-9187
END:VEVENT

END:VCALENDAR
