BEGIN:VCALENDAR
VERSION:2.0
PRODID:-//ChamberMaster//Event Calendar 2.0//EN
METHOD:PUBLISH
X-PUBLISHED-TTL:P3D
REFRESH-INTERVAL:P3D
CALSCALE:GREGORIAN
BEGIN:VEVENT
DTSTART:20230808T010000Z
DTEND:20230808T020000Z
X-MICROSOFT-CDO-ALLDAYEVENT:FALSE
SUMMARY:2023 AMEM Planning Call #2
DESCRIPTION:The second planning call for the 2023 Mission to the ASEAN Ministers on Energy Meeting (AMEM) will cover details on the notional schedule\, meeting formats & speaking roles\, logistical arrangements\, and other pertinent information.
X-ALT-DESC;FMTTYPE=text/html:The second planning call for the 2023 Mission to the ASEAN Ministers on Energy Meeting (AMEM) will cover details on the notional schedule\, meeting formats &amp\; speaking roles\, logistical arrangements\, and other pertinent information.&nbsp\;
LOCATION:Virtual event
UID:e.9078.9098
SEQUENCE:3
DTSTAMP:20260421T051107Z
URL:http://usasean.memberzone.com/events/details/2023-amem-planning-call-2-9098
END:VEVENT

END:VCALENDAR
