BEGIN:VCALENDAR
VERSION:2.0
PRODID:-//ChamberMaster//Event Calendar 2.0//EN
METHOD:PUBLISH
X-PUBLISHED-TTL:P3D
REFRESH-INTERVAL:P3D
CALSCALE:GREGORIAN
BEGIN:VEVENT
DTSTART:20230728T010000Z
DTEND:20230728T020000Z
X-MICROSOFT-CDO-ALLDAYEVENT:FALSE
SUMMARY:2023 AMEM Planning Call #1
DESCRIPTION:The first planning call for the 2023 Mission to the ASEAN Ministers on Energy Meeting (AMEM) will cover details on the notional schedule\, meeting formats & speaking roles\, logistical arrangements\, and other pertinent information.
X-ALT-DESC;FMTTYPE=text/html:The first planning call for the 2023 Mission to the ASEAN Ministers on Energy Meeting (AMEM) will cover details on the notional schedule\, meeting formats &amp\; speaking roles\, logistical arrangements\, and other pertinent information.&nbsp\;
LOCATION:Virtual event
UID:e.9078.9088
SEQUENCE:3
DTSTAMP:20260421T140901Z
URL:http://usasean.memberzone.com/events/details/2023-amem-planning-call-1-9088
END:VEVENT

END:VCALENDAR
