BEGIN:VCALENDAR
VERSION:2.0
PRODID:-//ChamberMaster//Event Calendar 2.0//EN
METHOD:PUBLISH
X-PUBLISHED-TTL:P3D
REFRESH-INTERVAL:P3D
CALSCALE:GREGORIAN
BEGIN:VEVENT
DTSTART;VALUE=DATE:20230823
DTEND;VALUE=DATE:20230826
TRANSP:TRANSPARENT
X-MICROSOFT-CDO-ALLDAYEVENT:TRUE
SUMMARY:2023 AMEM Business Mission
DESCRIPTION:With the goal of supporting the expansion of U.S. business interests\, the 2023 Energy Business Mission (AMEM) will create opportunities to engage with ASEAN Energy ministries and related organisations and reinforce stronger U.S. economic engagement with Singapore and in ASEAN.\n\n\n\nTo register for the business mission\, please contact Angga Antagia (aantagia@usasean.org) and Christine Wan (cwan@usasean.org).
X-ALT-DESC;FMTTYPE=text/html:<span style="color: rgb(33\, 33\, 33)\; font-family: arial\, sans-serif\; font-size: 14.6667px\; text-align: justify\; caret-color: rgb(33\, 33\, 33)\;">With the goal of supporting the expansion of U.S. business interests\, the 2023 Energy Business Mission (AMEM) will create opportunities to engage with ASEAN Energy ministries and related organisations and reinforce stronger U.S. economic engagement with Singapore and in ASEAN.</span><br style="color: rgb(33\, 33\, 33)\; font-family: arial\, sans-serif\; font-size: 14.6667px\; text-align: justify\; caret-color: rgb(33\, 33\, 33)\;" />\n<br style="color: rgb(33\, 33\, 33)\; font-family: arial\, sans-serif\; font-size: 14.6667px\; text-align: justify\; caret-color: rgb(33\, 33\, 33)\;" />\n<span style="color: rgb(33\, 33\, 33)\; font-family: arial\, sans-serif\; font-size: 14.6667px\; text-align: justify\; caret-color: rgb(33\, 33\, 33)\;">To register for the business mission\, please contact Angga Antagia (</span><a href="mailto:aantagia@usasean.org" style="font-family: arial\, sans-serif\; font-size: 14.6667px\; text-align: justify\; caret-color: rgb(33\, 33\, 33)\;">aantagia@usasean.org</a><span style="color: rgb(33\, 33\, 33)\; font-family: arial\, sans-serif\; font-size: 14.6667px\; text-align: justify\; caret-color: rgb(33\, 33\, 33)\;">) and Christine Wan (<a href="mailto:cwan@usasean.org">cwan@usasean.org</a>).</span>
LOCATION:Bali\, Indonesia (attend in-person)
UID:e.9078.9082
SEQUENCE:3
DTSTAMP:20260421T123102Z
URL:http://usasean.memberzone.com/events/details/2023-amem-business-mission-9082
END:VEVENT

END:VCALENDAR
