BEGIN:VCALENDAR
VERSION:2.0
PRODID:-//ChamberMaster//Event Calendar 2.0//EN
METHOD:PUBLISH
X-PUBLISHED-TTL:P3D
REFRESH-INTERVAL:P3D
CALSCALE:GREGORIAN
BEGIN:VEVENT
DTSTART:20230926T010000Z
DTEND:20230926T020000Z
X-MICROSOFT-CDO-ALLDAYEVENT:FALSE
SUMMARY:2023 AMAF Planning Call
DESCRIPTION:The first and final planning call for the 2023 Mission to the 45th ASEAN Ministers Meeting on Agriculture and Forestry (AMAF) will cover details on the plenary presentation\, notional schedule\, meeting format & speaking roles\, logistical arrangements\, and other pertinent information.
X-ALT-DESC;FMTTYPE=text/html:The first and final planning call for the 2023 Mission to the 45th ASEAN Ministers Meeting on Agriculture and Forestry (AMAF) will cover details on the plenary presentation\, notional schedule\, meeting format &amp\; speaking roles\, logistical arrangements\, and other pertinent information.&nbsp\;
LOCATION:Virtual event
UID:e.9078.9161
SEQUENCE:3
DTSTAMP:20260421T160130Z
URL:http://usasean.memberzone.com/events/details/2023-amaf-planning-call-9161
END:VEVENT

END:VCALENDAR
