BEGIN:VCALENDAR
VERSION:2.0
PRODID:-//ChamberMaster//Event Calendar 2.0//EN
METHOD:PUBLISH
X-PUBLISHED-TTL:P3D
REFRESH-INTERVAL:P3D
CALSCALE:GREGORIAN
BEGIN:VEVENT
DTSTART;VALUE=DATE:20231002
DTEND;VALUE=DATE:20231006
TRANSP:TRANSPARENT
X-MICROSOFT-CDO-ALLDAYEVENT:TRUE
SUMMARY:2023 AMAF Business Mission (ASEAN Ministers Meeting on Agriculture and Forestry)
DESCRIPTION:2023 Business Mission to the 45th ASEAN Ministers Meeting on Agriculture and Forestry (45 AMAF)
X-ALT-DESC;FMTTYPE=text/html:2023 Business Mission to the 45th ASEAN Ministers Meeting on Agriculture and Forestry (45 AMAF)
LOCATION:Kuala Lumpur\, Malaysia
UID:e.9078.9138
SEQUENCE:3
DTSTAMP:20260421T160945Z
URL:http://usasean.memberzone.com/events/details/2023-amaf-business-mission-asean-ministers-meeting-on-agriculture-and-forestry-9138
END:VEVENT

END:VCALENDAR
