BEGIN:VCALENDAR
VERSION:2.0
PRODID:-//ChamberMaster//Event Calendar 2.0//EN
METHOD:PUBLISH
X-PUBLISHED-TTL:P3D
REFRESH-INTERVAL:P3D
CALSCALE:GREGORIAN
BEGIN:VEVENT
DTSTART:20230315T013000Z
DTEND:20230315T023000Z
X-MICROSOFT-CDO-ALLDAYEVENT:FALSE
SUMMARY:2023 AFMGM Mission Second Planning Call
DESCRIPTION:
X-ALT-DESC;FMTTYPE=text/html:
LOCATION:
UID:e.9078.8971
SEQUENCE:3
DTSTAMP:20260421T140822Z
URL:http://usasean.memberzone.com/events/details/2023-afmgm-mission-second-planning-call-8971
END:VEVENT

END:VCALENDAR
