BEGIN:VCALENDAR
VERSION:2.0
PRODID:-//ChamberMaster//Event Calendar 2.0//EN
METHOD:PUBLISH
X-PUBLISHED-TTL:P3D
REFRESH-INTERVAL:P3D
CALSCALE:GREGORIAN
BEGIN:VEVENT
DTSTART;VALUE=DATE:20221128
DTEND;VALUE=DATE:20221201
TRANSP:TRANSPARENT
X-MICROSOFT-CDO-ALLDAYEVENT:TRUE
SUMMARY:2022 Thailand Business Mission
DESCRIPTION:The US-ASEAN Business Council is registering senior executives for its 2022 Thailand Business Mission\, taking place on November 28   29\, and the morning of November 30 (if necessary). This year's mission meetings will be in an in-person format. \n\n\n\nMission Themes\n\n	Engage the Royal Thai Government\, gain insight into their policy priorities\, and establish the private sector as a dedicated partner in achieving these priorities. \n	Support the Royal Thai Government in developing economic and trade policy directions ahead of the planned 2023 election.\n	Ensure the continuity of Thailand's APEC priorities to the United States' hosting year\n\n\n\nTo register for the mission\, please click here \n\n\n\nPlease contact Pimploy Vivatanapaiboonlap at pimploy@usasean.org for more information.
X-ALT-DESC;FMTTYPE=text/html:<br />\n<br />\n<span style="font-size:16px\;"><span style="font-family:arial\;"><span style="text-size-adjust: auto\; caret-color: rgb(0\, 0\, 0)\; color: rgb(0\, 0\, 0)\; line-height: 1.2\;">The US-ASEAN Business Council is registering senior executives for its <strong>2022&nbsp\;Thailand Business Mission\, taking place on November 28 &ndash\; 29\, and the morning of November 30 (if necessary)</strong>. This year&rsquo\;s mission meetings will be in an <u><strong>in-person format.&nbsp\;</strong></u></span><br />\n<br />\n<u><strong>Mission Themes</strong></u></span></span>\n<ul>\n	<li class="xmsonormal" style="margin: 0in\; caret-color: rgb(0\, 0\, 0)\; color: rgb(0\, 0\, 0)\; text-size-adjust: auto\; font-size: 11pt\; font-family: Calibri\, sans-serif\; line-height: 1.2\;"><span style="font-size:16px\;"><span style="font-family:arial\;"><span style="line-height: 1.2\;">Engage the Royal Thai Government\, gain insight into their policy priorities\, and establish the private sector as a dedicated partner&nbsp\;in achieving these priorities. </span></span></span><o:p></o:p></li>\n	<li class="xmsonormal" style="margin: 0in\; caret-color: rgb(0\, 0\, 0)\; color: rgb(0\, 0\, 0)\; text-size-adjust: auto\; font-size: 11pt\; font-family: Calibri\, sans-serif\; line-height: 1.2\;"><span style="font-size:16px\;"><span style="font-family:arial\;"><span style="line-height: 1.2\;">Support the Royal Thai Government in developing economic and trade policy directions ahead of the planned 2023 election.</span></span></span><o:p></o:p><o:p></o:p></li>\n	<li class="xmsonormal" style="margin: 0in\; caret-color: rgb(0\, 0\, 0)\; color: rgb(0\, 0\, 0)\; text-size-adjust: auto\; font-size: 11pt\; font-family: Calibri\, sans-serif\; line-height: 1.2\;"><span style="font-size:16px\;"><span style="font-family:arial\;"><span style="line-height: 1.2\;">Ensure&nbsp\;the continuity of Thailand&rsquo\;s APEC priorities to the United States&rsquo\; hosting year</span></span></span></li>\n</ul>\n<br />\n<span style="font-size:16px\;"><span style="font-family:arial\;">To register for the mission\, please <a href="https://www.usasean.org/mission/registration"><strong>click here&nbsp\;</strong></a><br />\n<br />\nPlease contact Pimploy Vivatanapaiboonlap at pimploy@usasean.org for more information.</span></span><br />\n&nbsp\;
LOCATION:Bangkok\, Thailand (in-person)
UID:e.9078.8887
SEQUENCE:3
DTSTAMP:20260422T042511Z
URL:http://usasean.memberzone.com/events/details/2022-thailand-business-mission-8887
END:VEVENT

END:VCALENDAR
