BEGIN:VCALENDAR
VERSION:2.0
PRODID:-//ChamberMaster//Event Calendar 2.0//EN
METHOD:PUBLISH
X-PUBLISHED-TTL:P3D
REFRESH-INTERVAL:P3D
CALSCALE:GREGORIAN
BEGIN:VEVENT
DTSTART:20220427T003000Z
DTEND:20220427T013000Z
X-MICROSOFT-CDO-ALLDAYEVENT:FALSE
SUMMARY:2022 Singapore Business Mission Planning Call #2
DESCRIPTION:2022 Singapore Business Mission Planning Call #2 \n\n\n\nGuest Speaker:\n\nDCM Cindy Wee
X-ALT-DESC;FMTTYPE=text/html:2022 Singapore Business Mission Planning Call #2&nbsp\;<br />\n<br />\nGuest Speaker:<br />\nDCM Cindy Wee
LOCATION:Virtual Meeting over Zoom
UID:e.9078.8752
SEQUENCE:3
DTSTAMP:20260422T155118Z
URL:http://usasean.memberzone.com/events/details/2022-singapore-business-mission-planning-call-2-8752
END:VEVENT

END:VCALENDAR
