BEGIN:VCALENDAR
VERSION:2.0
PRODID:-//ChamberMaster//Event Calendar 2.0//EN
METHOD:PUBLISH
X-PUBLISHED-TTL:P3D
REFRESH-INTERVAL:P3D
CALSCALE:GREGORIAN
BEGIN:VEVENT
DTSTART;VALUE=DATE:20220523
DTEND;VALUE=DATE:20220526
TRANSP:TRANSPARENT
X-MICROSOFT-CDO-ALLDAYEVENT:TRUE
SUMMARY:2022 Singapore Business Mission
DESCRIPTION:The US-ASEAN Business Council is registering senior-level executives for its annual Business Mission to Singapore on May 23-25\, 2022. The mission will consist of bilateral meetings with senior government officials and other priority stakeholders. This will be an in-person mission as may be allowed by relevant guidelines and restrictions. Participants should plan to arrive in Singapore by Sunday\, May 22. The mission starts on May 23\, Monday morning and ends on May 25\, Wednesday afternoon. There will be a pre-mission meeting and briefing in the morning of May 23\, Monday.\n\n\n\nThe deadline for receipt of registration and mission materials is COB Friday\, May 6\, 2022.
X-ALT-DESC;FMTTYPE=text/html:<span style="color: rgb(0\, 0\, 0)\; font-size: 12pt\; font-family: Arial\, sans-serif\;">The US-ASEAN Business Council is registering senior-level executives for its annual Business Mission to Singapore on <b>May 23-25\, 2022</b>. The mission will consist of bilateral meetings with senior government officials and other priority stakeholders. This will be an in-person mission as may be allowed by relevant guidelines and restrictions. Participants should plan to arrive in Singapore by Sunday\, May 22. The mission starts on May 23\, Monday morning and ends on May 25\, Wednesday afternoon. There will be a pre-mission meeting and briefing in the morning of May 23\, Monday.</span><br />\n<br />\n<span style="color: rgb(0\, 0\, 0)\; font-size: 12pt\; font-family: Arial\, sans-serif\;">The deadline for receipt of registration and mission materials is <strong><u><span style="color: red\;">COB Friday\, May 6\, 2022.</span></u></strong>&nbsp\;</span>
LOCATION:Singapore
UID:e.9078.8737
SEQUENCE:3
DTSTAMP:20260422T142053Z
URL:http://usasean.memberzone.com/events/details/2022-singapore-business-mission-8737
END:VEVENT

END:VCALENDAR
