BEGIN:VCALENDAR
VERSION:2.0
PRODID:-//ChamberMaster//Event Calendar 2.0//EN
METHOD:PUBLISH
X-PUBLISHED-TTL:P3D
REFRESH-INTERVAL:P3D
CALSCALE:GREGORIAN
BEGIN:VEVENT
DTSTART:20220617T033000Z
DTEND:20220617T043000Z
X-MICROSOFT-CDO-ALLDAYEVENT:FALSE
SUMMARY:2022 Q2 Indonesia Committee Call
DESCRIPTION:Dear Members\, \n\n\n\nThe Council is pleased to organize the Q2 Indonesia Committee Call on Friday\, June 17 from 10:30 AM - 11:30 AM Jakarta Time. \n\n\n\nThe agenda of the call can be found as follow:\n\n\n	Introduction to the new US-ABC Chief Country Representative for Indonesia\, Mr. Taufikurrahman\n	Recap of Q1 and Q2 Indonesia Committee Activities\n	Overview of 2022 Flagship Programs: Indonesia Business Mission and G20 Sideline Event\n	Indonesia Advocacy Updates\n	Discussion with Indonesia Committee Members\n\n\nIf you have any questions or comments ahead of the meeting\, please contact Indonesia Committee Team.
X-ALT-DESC;FMTTYPE=text/html:<div style="caret-color: rgb(0\, 0\, 0)\; color: rgb(0\, 0\, 0)\; font-family: Calibri\; font-size: 16px\; text-size-adjust: auto\; text-align: justify\;"><span style="font-size:16px\;"><span style="font-family:arial\;">Dear Members\,&nbsp\;<br />\n<br />\nThe Council is pleased to organize the Q2 Indonesia Committee Call on F<strong>riday\, June 17 from 10:30 AM - 11:30 AM Jakarta Time.</strong>&nbsp\;<br />\n<br />\nThe agenda of the call can be found as follow:</span></span></div>\n\n<ol style="caret-color: rgb(0\, 0\, 0)\; color: rgb(0\, 0\, 0)\; font-family: Calibri\; font-size: 16px\; text-size-adjust: auto\;">\n	<li style="text-align: justify\;"><span style="font-size:16px\;"><span style="font-family:arial\;">Introduction to the new US-ABC Chief Country Representative for Indonesia\, Mr. Taufikurrahman</span></span></li>\n	<li style="text-align: justify\;"><span style="font-size:16px\;"><span style="font-family:arial\;">Recap of Q1 and Q2 Indonesia Committee Activities</span></span></li>\n	<li style="text-align: justify\;"><span style="font-size:16px\;"><span style="font-family:arial\;">Overview of 2022 Flagship Programs: Indonesia Business Mission and G20 Sideline Event</span></span></li>\n	<li style="text-align: justify\;"><span style="font-size:16px\;"><span style="font-family:arial\;">Indonesia Advocacy Updates</span></span></li>\n	<li style="text-align: justify\;"><span style="font-size:16px\;"><span style="font-family:arial\;">Discussion with Indonesia Committee Members</span></span></li>\n</ol>\n\n<div style="caret-color: rgb(0\, 0\, 0)\; color: rgb(0\, 0\, 0)\; font-family: Calibri\; font-size: 16px\; text-size-adjust: auto\; text-align: justify\;"><span style="font-size:16px\;"><span style="font-family:arial\;">If you have any questions or comments ahead of the meeting\, please contact <a contenteditable="false" href="mailto:utami@usasean.org\; mega@usasean.org\; sgunawan@usasean.org\; bdjanuar@usasean.org?subject=Q2%20Indonesia%20Committee%20Call" style="color: rgb(230\, 0\, 69) !important\;" title="mailto:utami@usasean.org\; mega@usasean.org\; sgunawan@usasean.org\; bdjanuar@usasean.org?subject=Q2%20Indonesia%20Committee%20Call">Indonesia Committee Team</a>.&nbsp\;</span></span></div>\n
LOCATION:Zoom Dial-in details will be provided upon registration
UID:e.9078.8788
SEQUENCE:3
DTSTAMP:20260422T132539Z
URL:http://usasean.memberzone.com/events/details/2022-q2-indonesia-committee-call-8788
END:VEVENT

END:VCALENDAR
