BEGIN:VCALENDAR
VERSION:2.0
PRODID:-//ChamberMaster//Event Calendar 2.0//EN
METHOD:PUBLISH
X-PUBLISHED-TTL:P3D
REFRESH-INTERVAL:P3D
CALSCALE:GREGORIAN
BEGIN:VEVENT
DTSTART:20220217T010000Z
DTEND:20220217T020000Z
X-MICROSOFT-CDO-ALLDAYEVENT:FALSE
SUMMARY:2022 Q1 Food & Agriculture Committee Call
DESCRIPTION:Q1 2022 F&A Committee Call
X-ALT-DESC;FMTTYPE=text/html:Q1 2022 F&amp\;A Committee Call
LOCATION:
UID:e.9078.8700
SEQUENCE:3
DTSTAMP:20260422T193934Z
URL:http://usasean.memberzone.com/events/details/2022-q1-food-agriculture-committee-call-8700
END:VEVENT

END:VCALENDAR
