BEGIN:VCALENDAR
VERSION:2.0
PRODID:-//ChamberMaster//Event Calendar 2.0//EN
METHOD:PUBLISH
X-PUBLISHED-TTL:P3D
REFRESH-INTERVAL:P3D
CALSCALE:GREGORIAN
BEGIN:VEVENT
DTSTART;VALUE=DATE:20221025
DTEND;VALUE=DATE:20221029
TRANSP:TRANSPARENT
X-MICROSOFT-CDO-ALLDAYEVENT:TRUE
SUMMARY:2022 Philippine Business Mission
DESCRIPTION:The US-ASEAN Business Council is registering senior-level executives for its annual Business Mission to the Philippines on October 25-28\, 2022. The mission will consist of bilateral meetings with senior government officials and other priority stakeholders and will be the best opportunity to meet the newly appointed leaders of the Marcos administration. This will be an in-person mission as may be allowed by relevant guidelines and restrictions. Participants should plan to arrive in Manila by Monday\, October 24. The mission starts on Tuesday October 25\, morning and ends on Friday 28\, afternoon. There will be a pre-mission meeting and briefing on the morning of October 25.\n\n\n\nTo register\, please go to the Mission Registration page.\n\n\n\nMission Themes:\n\n	Accelerating recovery\, growth\, and competitiveness with digital transformation\n	Ensuring sustainability\, food and health security and supply chain resilience\n	Strengthening US-Philippines bilateral ties for regional peace and prosperity
X-ALT-DESC;FMTTYPE=text/html:<br />\n<span style="font-size:16px\;"><span style="font-family:arial\;"><span style="color: rgb(0\, 0\, 0)\;">The US-ASEAN Business Council is registering senior-level executives for its annual Business Mission to the Philippines on <b>October 25-28\, 2022</b>. The mission will consist of bilateral meetings with senior government officials and other priority stakeholders and will be the best opportunity to meet the newly appointed leaders of the Marcos administration. This will be an in-person mission as may be allowed by relevant guidelines and restrictions. Participants should plan to arrive in Manila by Monday\, October 24. The mission starts on Tuesday October 25\, morning and ends on Friday 28\, afternoon. There will be a pre-mission meeting and briefing on the morning of October 25.</span><br />\n<br />\nTo register\, please go to the <a href="http://www.usasean.org/mission/registration">Mission Registration page</a>.<br />\n<br />\nMission Themes:</span></span>\n<ol>\n	<li><span style="font-size:16px\;"><span style="font-family:arial\;">Accelerating recovery\, growth\, and competitiveness with digital transformation</span></span></li>\n	<li><span style="font-size:16px\;"><span style="font-family:arial\;">Ensuring sustainability\, food&nbsp\;and health security and supply chain resilience</span></span></li>\n	<li><span style="font-size:16px\;"><span style="font-family:arial\;">Strengthening US-Philippines bilateral ties for regional peace and prosperity</span></span></li>\n</ol>\n
LOCATION:
UID:e.9078.8831
SEQUENCE:3
DTSTAMP:20260422T044842Z
URL:http://usasean.memberzone.com/events/details/2022-philippine-business-mission-8831
END:VEVENT

END:VCALENDAR
