BEGIN:VCALENDAR
VERSION:2.0
PRODID:-//ChamberMaster//Event Calendar 2.0//EN
METHOD:PUBLISH
X-PUBLISHED-TTL:P3D
REFRESH-INTERVAL:P3D
CALSCALE:GREGORIAN
BEGIN:VEVENT
DTSTART;VALUE=DATE:20221208
DTEND;VALUE=DATE:20221210
TRANSP:TRANSPARENT
X-MICROSOFT-CDO-ALLDAYEVENT:TRUE
SUMMARY:2022 ASEAN Business Mission
DESCRIPTION:The US-ASEAN Business Council is registering senior-level executives for the 2022 ASEAN Business Mission. \n\n	\n		\n			ASE 3033\n		\n	\n\n\n\n\n\nRegister here: https://www.usasean.org/mission/registration
X-ALT-DESC;FMTTYPE=text/html:<span style="caret-color: rgb(32\, 31\, 30)\; color: rgb(32\, 31\, 30)\; font-family: Arial\, sans-serif\; font-size: 16px\; font-style: normal\; font-variant-caps: normal\; font-weight: normal\; letter-spacing: normal\; orphans: auto\; text-align: justify\; text-indent: 0px\; text-transform: none\; white-space: normal\; widows: auto\; word-spacing: 0px\; -webkit-text-size-adjust: auto\; -webkit-text-stroke-width: 0px\; text-decoration: none\; display: inline !important\; float: none\;">The US-ASEAN Business Council is registering senior-level&nbsp\;executives for&nbsp\;the 2022 ASEAN Business Mission.&nbsp\;</span>\n<table border="0" cellpadding="0" cellspacing="0" style="border-collapse:collapse\;width:68px\;" width="67">\n	<tbody>\n		<tr height="18" style="height:19px\;">\n			<td height="18" style="height:19px\;width:68px\;">ASE 3033</td>\n		</tr>\n	</tbody>\n</table>\n<br />\n<br />\n<span style="caret-color: rgb(32\, 31\, 30)\; color: rgb(32\, 31\, 30)\; font-family: Arial\, sans-serif\; font-size: 16px\; font-style: normal\; font-variant-caps: normal\; font-weight: normal\; letter-spacing: normal\; orphans: auto\; text-align: justify\; text-indent: 0px\; text-transform: none\; white-space: normal\; widows: auto\; word-spacing: 0px\; -webkit-text-size-adjust: auto\; -webkit-text-stroke-width: 0px\; text-decoration: none\; display: inline !important\; float: none\;">Register here: </span><span style="font-size:16px\;">https://www.usasean.org/mission/registration</span>
LOCATION:In-person in Jakarta\, Indonesia
UID:e.9078.8914
SEQUENCE:3
DTSTAMP:20260422T011127Z
URL:http://usasean.memberzone.com/events/details/2022-asean-business-mission-8914
END:VEVENT

END:VCALENDAR
